BEGIN:VCALENDAR
VERSION:2.0
PRODID:-//STAAR Theatre - ECPv6.15.20//NONSGML v1.0//EN
CALSCALE:GREGORIAN
METHOD:PUBLISH
X-ORIGINAL-URL:https://staartheatre.org
X-WR-CALDESC:Events for STAAR Theatre
REFRESH-INTERVAL;VALUE=DURATION:PT1H
X-Robots-Tag:noindex
X-PUBLISHED-TTL:PT1H
BEGIN:VTIMEZONE
TZID:America/Chicago
BEGIN:DAYLIGHT
TZOFFSETFROM:-0600
TZOFFSETTO:-0500
TZNAME:CDT
DTSTART:20240310T080000
END:DAYLIGHT
BEGIN:STANDARD
TZOFFSETFROM:-0500
TZOFFSETTO:-0600
TZNAME:CST
DTSTART:20241103T070000
END:STANDARD
BEGIN:DAYLIGHT
TZOFFSETFROM:-0600
TZOFFSETTO:-0500
TZNAME:CDT
DTSTART:20250309T080000
END:DAYLIGHT
BEGIN:STANDARD
TZOFFSETFROM:-0500
TZOFFSETTO:-0600
TZNAME:CST
DTSTART:20251102T070000
END:STANDARD
BEGIN:DAYLIGHT
TZOFFSETFROM:-0600
TZOFFSETTO:-0500
TZNAME:CDT
DTSTART:20260308T080000
END:DAYLIGHT
BEGIN:STANDARD
TZOFFSETFROM:-0500
TZOFFSETTO:-0600
TZNAME:CST
DTSTART:20261101T070000
END:STANDARD
END:VTIMEZONE
BEGIN:VEVENT
DTSTART;TZID=America/Chicago:20250714T180000
DTEND;TZID=America/Chicago:20250714T200000
DTSTAMP:20260423T093557
CREATED:20250630T094308Z
LAST-MODIFIED:20250630T094829Z
UID:3759-1752516000-1752523200@staartheatre.org
SUMMARY:Steel Magnolia Auditions\, July 14
DESCRIPTION:SYNOPSIS\nThe action is set in Truvy’s beauty salon in Chinquapin\, Louisiana\, where all the ladies who are “anybody” come to have their hair done. Helped by her eager new assistant\, Annelle (who is not sure whether or not she is still married)\, the outspoken\, wise-cracking Truvy dispenses shampoos and free advice to the town’s rich curmudgeon\, Ouiser\, (“I’m not crazy\, I’ve just been in a bad mood for forty years”); an eccentric millionaire\, Miss Clairee\, who has a raging sweet tooth; and the local social leader\, M’Lynn\, whose daughter\, Shelby (the prettiest girl in town)\, is about to marry a “good ole boy.” Filled with hilarious repartee and not a few acerbic but humorously revealing verbal collisions\, the play moves toward tragedy when\, in the second act\, the spunky Shelby (who is a diabetic) risks pregnancy and forfeits her life. The sudden realization of their mortality affects the others\, but also draws on the underlying strength—and love—which give the play\, and its characters\, the special quality to make them truly touching\, funny and marvelously amiable company in good times and bad. \nActor Auditions\nAuditions will be held next door to the STAAR Theater\, on Monday\, July 14 from 6-8 p.m.\nCallbacks will be held on Thursday\, July 17 from 6-8 p.m. \nAUDITION PREPARATIONS\n\nPre audition: Be familiar with the story of Steel Magnolias. Know where it took place. Identify with the characters.  \nBe prepared to tell the audition team a short summary about yourself.  \nWhat to wear: Dark pants/skirt/dress and a light color solid top. \n\n\n  \n\nPerformance Dates\nSeptember 19 – 28\, 2025 \nPRODUCTION FEES\n$50 first participant\n$75 per family\nFull and partial scholarships available! \nProduction Team\nDIRECTOR: Mary Ann Trimble \nRehearsals\nRehearsals begin first week of August. Rehearsals will be held Mondays and Thursdays. \n  \nSTEEL MAGNOLIAS is presented by arrangement with Dramatists Play Service\, Inc.\nwww.dramatists.com \n \n			\n				\n				\n				\n				\n				\n				\n				\n				\n				\n				STEEL MAGNOLIAS\n				\n			\n				\n				\n				\n				\n				Character Roles\n				STEEL MAGNOLIAS – CHARACTER ROLES \nTruvy Jones\n40-year-old owner of a small town beauty shop. She knows everyone’s business and shares it with anyone who will listen. Southern Belle. She always has advice for you\, and they often come in the form of country sayings. \nM’Lynn Eatenton\n50-year-old mother of Shelby. She is over-protective at times and finds the need to have a firm grasp on the world at all times. She is a busy woman who worries too much for her age. \nAnnelle Dupuy-Desoto\n19-25 years old. Very shy twenty-year-old hair-dresser. She goes from a very soft-spoken person to a bible-loving Christian with her heart on her sleeve. \nShelby Eatenton-Latcherie\nRoughly 25-yearold diabetic young lady. Prettiest girl in town\, and loved by all. She has a weird relationship with her mother\, and often rebels just for the sake of rebellion. \nClairee Belcher\n60-year-old widow of the former mayor of Chinquapin. She is wealthy and also knows everyone’s business. She is the sarcastic member of the group. She loves to laugh and poke fun at the little lthings that others cry over. She is very close with Ouiser. \nOuiser Bourdeaux\n(pronounced Weezer) She is the same age as Clairee. She is a wealthy old bitty. She is a loveable\, miserable lady\, though. Her unique personality and sense of humor is a great relief in the serious scenes. She is very close to Clairee.\n			\n			\n			\n				\n				\n				\n				\n				\n				Audition Form\n			\n				\n				\n				\n				\n				 \n			\n				\n				\n				\n				\n				Actors must register online
URL:https://staartheatre.org/event/steel-magnolia-auditions-july-14/
LOCATION:STAAR Theatre\, 105 N 1st St\, Pulaski\, TN\, 38478\, United States
CATEGORIES:Audition Announcements,STAAR Blog
ATTACH;FMTTYPE=image/jpeg:https://staartheatre.org/wp-content/uploads/2025/06/S-Magnolias-Web-Event.jpg
ORGANIZER;CN="STAAR Theatre":MAILTO:info@staartheatre.org
END:VEVENT
BEGIN:VEVENT
DTSTART;TZID=America/Chicago:20250717T180000
DTEND;TZID=America/Chicago:20250717T200000
DTSTAMP:20260423T093557
CREATED:20250630T094227Z
LAST-MODIFIED:20250630T094523Z
UID:3755-1752775200-1752782400@staartheatre.org
SUMMARY:Steel Magnolia Callbacks\, July 17
DESCRIPTION:SYNOPSIS\nThe action is set in Truvy’s beauty salon in Chinquapin\, Louisiana\, where all the ladies who are “anybody” come to have their hair done. Helped by her eager new assistant\, Annelle (who is not sure whether or not she is still married)\, the outspoken\, wise-cracking Truvy dispenses shampoos and free advice to the town’s rich curmudgeon\, Ouiser\, (“I’m not crazy\, I’ve just been in a bad mood for forty years”); an eccentric millionaire\, Miss Clairee\, who has a raging sweet tooth; and the local social leader\, M’Lynn\, whose daughter\, Shelby (the prettiest girl in town)\, is about to marry a “good ole boy.” Filled with hilarious repartee and not a few acerbic but humorously revealing verbal collisions\, the play moves toward tragedy when\, in the second act\, the spunky Shelby (who is a diabetic) risks pregnancy and forfeits her life. The sudden realization of their mortality affects the others\, but also draws on the underlying strength—and love—which give the play\, and its characters\, the special quality to make them truly touching\, funny and marvelously amiable company in good times and bad. \nActor Auditions\nAuditions will be held next door to the STAAR Theater\, on Monday\, July 14 from 6-8 p.m.Callbacks will be held on Thursday\, July 17 from 6-8 p.m. \nAUDITION PREPARATIONS\n\nPre audition: Be familiar with the story of Steel Magnolias. Know where it took place. Identify with the characters.  \nBe prepared to tell the audition team a short summary about yourself.  \nWhat to wear: Dark pants/skirt/dress and a light color solid top. \n\n\n  \n\nPerformance Dates\nSeptember 19 – 28\, 2025 \nPRODUCTION FEES\n$50 first participant$75 per familyFull and partial scholarships available! \nProduction Team\nDIRECTOR: Mary Ann Trimble \nRehearsals\nRehearsals begin first week of August. Rehearsals will be held Mondays and Thursdays. \n  \nSTEEL MAGNOLIAS is presented by arrangement with Dramatists Play Service\, Inc.www.dramatists.com \n  \n			\n				\n				\n				\n				\n				\n				\n				\n				\n				\n				STEEL MAGNOLIAS\n				\n			\n				\n				\n				\n				\n				Character Roles\n				STEEL MAGNOLIAS – CHARACTER ROLES \nTruvy Jones  40-year-old owner of a small town beauty shop. She knows everyone’s business and shares it with anyone who will listen. Southern Belle. She always has advice for you\, and they often come in the form of country sayings.  \nM’Lynn Eatenton50-year-old mother of Shelby. She is over-protective at times and finds the need to have a firm grasp on the world at all times. She is a busy woman who worries too much for her age.  \nAnnelle Dupuy-Desoto19-25 years old. Very shy twenty-year-old hair-dresser. She goes from a very soft-spoken person to a bible-loving Christian with her heart on her sleeve.  \nShelby Eatenton-LatcherieRoughly 25-yearold diabetic young lady. Prettiest girl in town\, and loved by all. She has a weird relationship with her mother\, and often rebels just for the sake of rebellion.  \nClairee Belcher60-year-old widow of the former mayor of Chinquapin. She is wealthy and also knows everyone’s business. She is the sarcastic member of the group. She loves to laugh and poke fun at the little lthings that others cry over. She is very close with Ouiser. \nOuiser Bourdeaux(pronounced Weezer) She is the same age as Clairee. She is a wealthy old bitty. She is a loveable\, miserable lady\, though. Her unique personality and sense of humor is a great relief in the serious scenes. She is very close to Clairee.  \n			\n			\n			\n				\n				\n				\n				\n				\n				Audition Form\n			\n				\n				\n				\n				\n				  \n			\n				\n				\n				\n				\n				Actors must register online
URL:https://staartheatre.org/event/steel-magnolia-callbacks-july-17/
LOCATION:STAAR Theatre\, 105 N 1st St\, Pulaski\, TN\, 38478\, United States
CATEGORIES:Audition Announcements,STAAR Blog
ATTACH;FMTTYPE=image/jpeg:https://staartheatre.org/wp-content/uploads/2025/06/S-Magnolias-Web-Event.jpg
ORGANIZER;CN="STAAR Theatre":MAILTO:info@staartheatre.org
END:VEVENT
END:VCALENDAR