BEGIN:VCALENDAR
VERSION:2.0
PRODID:-//STAAR Theatre - ECPv6.15.20//NONSGML v1.0//EN
CALSCALE:GREGORIAN
METHOD:PUBLISH
X-ORIGINAL-URL:https://staartheatre.org
X-WR-CALDESC:Events for STAAR Theatre
REFRESH-INTERVAL;VALUE=DURATION:PT1H
X-Robots-Tag:noindex
X-PUBLISHED-TTL:PT1H
BEGIN:VTIMEZONE
TZID:America/Chicago
BEGIN:DAYLIGHT
TZOFFSETFROM:-0600
TZOFFSETTO:-0500
TZNAME:CDT
DTSTART:20230312T080000
END:DAYLIGHT
BEGIN:STANDARD
TZOFFSETFROM:-0500
TZOFFSETTO:-0600
TZNAME:CST
DTSTART:20231105T070000
END:STANDARD
BEGIN:DAYLIGHT
TZOFFSETFROM:-0600
TZOFFSETTO:-0500
TZNAME:CDT
DTSTART:20240310T080000
END:DAYLIGHT
BEGIN:STANDARD
TZOFFSETFROM:-0500
TZOFFSETTO:-0600
TZNAME:CST
DTSTART:20241103T070000
END:STANDARD
BEGIN:DAYLIGHT
TZOFFSETFROM:-0600
TZOFFSETTO:-0500
TZNAME:CDT
DTSTART:20250309T080000
END:DAYLIGHT
BEGIN:STANDARD
TZOFFSETFROM:-0500
TZOFFSETTO:-0600
TZNAME:CST
DTSTART:20251102T070000
END:STANDARD
END:VTIMEZONE
BEGIN:VEVENT
DTSTART;TZID=America/Chicago:20240301T190000
DTEND;TZID=America/Chicago:20240301T200000
DTSTAMP:20260424T180137
CREATED:20240202T113639Z
LAST-MODIFIED:20240202T113840Z
UID:2255-1709319600-1709323200@staartheatre.org
SUMMARY:Children of the Holocaust & Can You Hear Them Crying?
DESCRIPTION:Tickets are now on sale for Children of the Holocaust & Can You Hear Them Crying? \nClick here for tickets. \nSTAAR THEATRE AT ANTOINETTE HALL PRESENTS\n\nFri. Mar 1\, 2024\, 7 p.m.\nSat. Mar 2\, 2024\, 7 p.m.\n\n\nChildren of the Holocaust\n\nAfter World War II\, over 200 children’s diaries like Anne Frank’s were found.  What happened to these children?  Who might they have been if they had survived?  This play of remembrance speaks poignantly of the hopes and dreams of Anne\, David\, Rachael and Michael\, victims of the Holocaust.  It portrays their courage and their faith\, and what they might have seen had they lived. \nIn light of the current rise in anti-semitism\, the lessons of the Holocaust cannot be forgotten. \nCan You Hear Them Crying? \nPoetry\, dance\, symbolic scenery\, and costumes all work together to make this an unforgettable tribute to the thousands of children who did not survive their imprisonment at the Theresienstadt\, Czechoslovakia concentration camp.  In English translation\, the narrative features actual stories and poems written by the lost children themselves.  Their own words poignantly describe scenes of their daily life in the ghetto — their moments of hope and despair.
URL:https://staartheatre.org/event/children-of-the-holocaust-can-you-hear-them-crying/
LOCATION:STAAR Theatre\, 105 N 1st St\, Pulaski\, TN\, 38478\, United States
CATEGORIES:Current Events
ATTACH;FMTTYPE=image/webp:https://staartheatre.org/wp-content/uploads/2024/02/eooxo53lfoy1wxo7oqsz.webp
ORGANIZER;CN="STAAR Theatre":MAILTO:info@staartheatre.org
END:VEVENT
BEGIN:VEVENT
DTSTART;TZID=America/Chicago:20240301T190000
DTEND;TZID=America/Chicago:20240301T200000
DTSTAMP:20260424T180137
CREATED:20240202T113639Z
LAST-MODIFIED:20240202T113840Z
UID:2255-1709319600-1709323200@staartheatre.org
SUMMARY:Children of the Holocaust & Can You Hear Them Crying?
DESCRIPTION:Tickets are now on sale for Children of the Holocaust & Can You Hear Them Crying? \nClick here for tickets. \nSTAAR THEATRE AT ANTOINETTE HALL PRESENTS\n\nFri. Mar 1\, 2024\, 7 p.m.\nSat. Mar 2\, 2024\, 7 p.m.\n\n\nChildren of the Holocaust\n\nAfter World War II\, over 200 children’s diaries like Anne Frank’s were found.  What happened to these children?  Who might they have been if they had survived?  This play of remembrance speaks poignantly of the hopes and dreams of Anne\, David\, Rachael and Michael\, victims of the Holocaust.  It portrays their courage and their faith\, and what they might have seen had they lived. \nIn light of the current rise in anti-semitism\, the lessons of the Holocaust cannot be forgotten. \nCan You Hear Them Crying? \nPoetry\, dance\, symbolic scenery\, and costumes all work together to make this an unforgettable tribute to the thousands of children who did not survive their imprisonment at the Theresienstadt\, Czechoslovakia concentration camp.  In English translation\, the narrative features actual stories and poems written by the lost children themselves.  Their own words poignantly describe scenes of their daily life in the ghetto — their moments of hope and despair.
URL:https://staartheatre.org/event/children-of-the-holocaust-can-you-hear-them-crying/
LOCATION:STAAR Theatre\, 105 N 1st St\, Pulaski\, TN\, 38478\, United States
CATEGORIES:Current Events
ATTACH;FMTTYPE=image/webp:https://staartheatre.org/wp-content/uploads/2024/02/eooxo53lfoy1wxo7oqsz.webp
ORGANIZER;CN="STAAR Theatre":MAILTO:info@staartheatre.org
END:VEVENT
END:VCALENDAR