BEGIN:VCALENDAR
VERSION:2.0
PRODID:-//STAAR Theatre - ECPv6.15.20//NONSGML v1.0//EN
CALSCALE:GREGORIAN
METHOD:PUBLISH
X-WR-CALNAME:STAAR Theatre
X-ORIGINAL-URL:https://staartheatre.org
X-WR-CALDESC:Events for STAAR Theatre
REFRESH-INTERVAL;VALUE=DURATION:PT1H
X-Robots-Tag:noindex
X-PUBLISHED-TTL:PT1H
BEGIN:VTIMEZONE
TZID:America/Chicago
BEGIN:DAYLIGHT
TZOFFSETFROM:-0600
TZOFFSETTO:-0500
TZNAME:CDT
DTSTART:20230312T080000
END:DAYLIGHT
BEGIN:STANDARD
TZOFFSETFROM:-0500
TZOFFSETTO:-0600
TZNAME:CST
DTSTART:20231105T070000
END:STANDARD
BEGIN:DAYLIGHT
TZOFFSETFROM:-0600
TZOFFSETTO:-0500
TZNAME:CDT
DTSTART:20240310T080000
END:DAYLIGHT
BEGIN:STANDARD
TZOFFSETFROM:-0500
TZOFFSETTO:-0600
TZNAME:CST
DTSTART:20241103T070000
END:STANDARD
BEGIN:DAYLIGHT
TZOFFSETFROM:-0600
TZOFFSETTO:-0500
TZNAME:CDT
DTSTART:20250309T080000
END:DAYLIGHT
BEGIN:STANDARD
TZOFFSETFROM:-0500
TZOFFSETTO:-0600
TZNAME:CST
DTSTART:20251102T070000
END:STANDARD
END:VTIMEZONE
BEGIN:VEVENT
DTSTART;TZID=America/Chicago:20240612T180000
DTEND;TZID=America/Chicago:20240612T190000
DTSTAMP:20260424T134009
CREATED:20240531T140109Z
LAST-MODIFIED:20240531T140109Z
UID:2504-1718215200-1718218800@staartheatre.org
SUMMARY:Board of Directors Meeting June 12\, 2024
DESCRIPTION:Notice is hereby given that a regular meeting of the Board of Directors of STAAR Theatre will be held at 6 p.m on\nWednesday\, June 12th at 105 N 1st St. Pulaski\, TN 38478. STAAR Theatre is a 501c3 organization. The public is invited to attend board meetings.
URL:https://staartheatre.org/event/board-of-directors-meeting-june-12-2024/
LOCATION:STAAR Theatre\, 105 N 1st St\, Pulaski\, TN\, 38478\, United States
CATEGORIES:Current Events,STAAR Blog
ATTACH;FMTTYPE=image/jpeg:https://staartheatre.org/wp-content/uploads/2024/05/workshop-1746275_1280.jpg
ORGANIZER;CN="STAAR Theatre":MAILTO:info@staartheatre.org
END:VEVENT
BEGIN:VEVENT
DTSTART;TZID=America/Chicago:20240621T190000
DTEND;TZID=America/Chicago:20240621T203000
DTSTAMP:20260424T134009
CREATED:20240516T162858Z
LAST-MODIFIED:20240516T223827Z
UID:2441-1718996400-1719001800@staartheatre.org
SUMMARY:Frozen JR
DESCRIPTION:You Won’t Let It Go! Get Your Tickets to STAAR Theatre’s Production of Disney’s Frozen JR. Now!\nBuy Tickets Here \nThe magic of Disney comes alive on stage at STAAR Theatre with their production of Disney’s Frozen JR.! This enchanting adaptation of the beloved film is based on the 2018 Broadway musical and brings the characters and story of Arendelle to life for a whole new generation. \nSing along to all your favorite songs from the animated film\, including “Let It Go\,” “Do You Want to Build a Snowman?” and “Love is an Open Door\,” with music and lyrics by Kristen Anderson-Lopez and Robert Lopez. The show also features five new songs written especially for the Broadway production. \nMore than just a sing-along\, Frozen JR. is a heartwarming story of love\, acceptance\, and the unbreakable bond between sisters. When Elsa struggles to control her icy powers\, Anna sets out on a daring adventure to bring back summer and save her sister. Along the way\, they encounter unforgettable characters like Kristoff\, Olaf\, and Sven\, and discover the true meaning of sisterhood. \nWith a talented cast\, stunning sets\, and all the magic of Disney\, Frozen JR. is a must-see for the whole family. Don’t let this show melt away! Get your tickets today. \nPerformance Dates: \n\nFriday\, June 21 | 7 P.M.\nSaturday\, June 22 | 7 P.M.\nSunday\, June 23 | 3 P.M.\n\nThis production is sure to thaw even the coldest heart!
URL:https://staartheatre.org/event/frozen-jr/
LOCATION:STAAR Theatre\, 105 N 1st St\, Pulaski\, TN\, 38478\, United States
CATEGORIES:Current Events,STAAR Blog,Ticket Sales
ATTACH;FMTTYPE=image/jpeg:https://staartheatre.org/wp-content/uploads/2021/02/Frozen-cast.jpg
ORGANIZER;CN="STAAR Theatre":MAILTO:info@staartheatre.org
END:VEVENT
BEGIN:VEVENT
DTSTART;TZID=America/Chicago:20240621T190000
DTEND;TZID=America/Chicago:20240621T203000
DTSTAMP:20260424T134009
CREATED:20240516T162858Z
LAST-MODIFIED:20240516T223827Z
UID:2441-1718996400-1719001800@staartheatre.org
SUMMARY:Frozen JR
DESCRIPTION:You Won’t Let It Go! Get Your Tickets to STAAR Theatre’s Production of Disney’s Frozen JR. Now!\nBuy Tickets Here \nThe magic of Disney comes alive on stage at STAAR Theatre with their production of Disney’s Frozen JR.! This enchanting adaptation of the beloved film is based on the 2018 Broadway musical and brings the characters and story of Arendelle to life for a whole new generation. \nSing along to all your favorite songs from the animated film\, including “Let It Go\,” “Do You Want to Build a Snowman?” and “Love is an Open Door\,” with music and lyrics by Kristen Anderson-Lopez and Robert Lopez. The show also features five new songs written especially for the Broadway production. \nMore than just a sing-along\, Frozen JR. is a heartwarming story of love\, acceptance\, and the unbreakable bond between sisters. When Elsa struggles to control her icy powers\, Anna sets out on a daring adventure to bring back summer and save her sister. Along the way\, they encounter unforgettable characters like Kristoff\, Olaf\, and Sven\, and discover the true meaning of sisterhood. \nWith a talented cast\, stunning sets\, and all the magic of Disney\, Frozen JR. is a must-see for the whole family. Don’t let this show melt away! Get your tickets today. \nPerformance Dates: \n\nFriday\, June 21 | 7 P.M.\nSaturday\, June 22 | 7 P.M.\nSunday\, June 23 | 3 P.M.\n\nThis production is sure to thaw even the coldest heart!
URL:https://staartheatre.org/event/frozen-jr/
LOCATION:STAAR Theatre\, 105 N 1st St\, Pulaski\, TN\, 38478\, United States
CATEGORIES:Current Events,STAAR Blog,Ticket Sales
ATTACH;FMTTYPE=image/jpeg:https://staartheatre.org/wp-content/uploads/2021/02/Frozen-cast.jpg
ORGANIZER;CN="STAAR Theatre":MAILTO:info@staartheatre.org
END:VEVENT
BEGIN:VEVENT
DTSTART;TZID=America/Chicago:20240621T190000
DTEND;TZID=America/Chicago:20240621T203000
DTSTAMP:20260424T134009
CREATED:20240516T162858Z
LAST-MODIFIED:20240516T223827Z
UID:2441-1718996400-1719001800@staartheatre.org
SUMMARY:Frozen JR
DESCRIPTION:You Won’t Let It Go! Get Your Tickets to STAAR Theatre’s Production of Disney’s Frozen JR. Now!\nBuy Tickets Here \nThe magic of Disney comes alive on stage at STAAR Theatre with their production of Disney’s Frozen JR.! This enchanting adaptation of the beloved film is based on the 2018 Broadway musical and brings the characters and story of Arendelle to life for a whole new generation. \nSing along to all your favorite songs from the animated film\, including “Let It Go\,” “Do You Want to Build a Snowman?” and “Love is an Open Door\,” with music and lyrics by Kristen Anderson-Lopez and Robert Lopez. The show also features five new songs written especially for the Broadway production. \nMore than just a sing-along\, Frozen JR. is a heartwarming story of love\, acceptance\, and the unbreakable bond between sisters. When Elsa struggles to control her icy powers\, Anna sets out on a daring adventure to bring back summer and save her sister. Along the way\, they encounter unforgettable characters like Kristoff\, Olaf\, and Sven\, and discover the true meaning of sisterhood. \nWith a talented cast\, stunning sets\, and all the magic of Disney\, Frozen JR. is a must-see for the whole family. Don’t let this show melt away! Get your tickets today. \nPerformance Dates: \n\nFriday\, June 21 | 7 P.M.\nSaturday\, June 22 | 7 P.M.\nSunday\, June 23 | 3 P.M.\n\nThis production is sure to thaw even the coldest heart!
URL:https://staartheatre.org/event/frozen-jr/
LOCATION:STAAR Theatre\, 105 N 1st St\, Pulaski\, TN\, 38478\, United States
CATEGORIES:Current Events,STAAR Blog,Ticket Sales
ATTACH;FMTTYPE=image/jpeg:https://staartheatre.org/wp-content/uploads/2021/02/Frozen-cast.jpg
ORGANIZER;CN="STAAR Theatre":MAILTO:info@staartheatre.org
END:VEVENT
BEGIN:VEVENT
DTSTART;TZID=America/Chicago:20240626T180000
DTEND;TZID=America/Chicago:20240626T190000
DTSTAMP:20260424T134009
CREATED:20240623T122802Z
LAST-MODIFIED:20240623T122802Z
UID:2540-1719424800-1719428400@staartheatre.org
SUMMARY:Board of Directors Meeting June 26\, 2024
DESCRIPTION:Notice is hereby given that a regular meeting of the Board of Directors of STAAR Theatre will be held at 6 p.m on\nWednesday\, June 26th at 105 N 1st St. Pulaski\, TN 38478. STAAR Theatre is a 501c3 organization. The public is invited to attend board meetings.
URL:https://staartheatre.org/event/board-of-directors-meeting-june-26-2024-2/
LOCATION:STAAR Theatre\, 105 N 1st St\, Pulaski\, TN\, 38478\, United States
CATEGORIES:Current Events,STAAR Blog
ATTACH;FMTTYPE=image/jpeg:https://staartheatre.org/wp-content/uploads/2024/06/startup-593341_1280.jpg
ORGANIZER;CN="STAAR Theatre":MAILTO:info@staartheatre.org
END:VEVENT
END:VCALENDAR