BEGIN:VCALENDAR
VERSION:2.0
PRODID:-//STAAR Theatre - ECPv6.15.20//NONSGML v1.0//EN
CALSCALE:GREGORIAN
METHOD:PUBLISH
X-ORIGINAL-URL:https://staartheatre.org
X-WR-CALDESC:Events for STAAR Theatre
REFRESH-INTERVAL;VALUE=DURATION:PT1H
X-Robots-Tag:noindex
X-PUBLISHED-TTL:PT1H
BEGIN:VTIMEZONE
TZID:America/Chicago
BEGIN:DAYLIGHT
TZOFFSETFROM:-0600
TZOFFSETTO:-0500
TZNAME:CDT
DTSTART:20230312T080000
END:DAYLIGHT
BEGIN:STANDARD
TZOFFSETFROM:-0500
TZOFFSETTO:-0600
TZNAME:CST
DTSTART:20231105T070000
END:STANDARD
BEGIN:DAYLIGHT
TZOFFSETFROM:-0600
TZOFFSETTO:-0500
TZNAME:CDT
DTSTART:20240310T080000
END:DAYLIGHT
BEGIN:STANDARD
TZOFFSETFROM:-0500
TZOFFSETTO:-0600
TZNAME:CST
DTSTART:20241103T070000
END:STANDARD
BEGIN:DAYLIGHT
TZOFFSETFROM:-0600
TZOFFSETTO:-0500
TZNAME:CDT
DTSTART:20250309T080000
END:DAYLIGHT
BEGIN:STANDARD
TZOFFSETFROM:-0500
TZOFFSETTO:-0600
TZNAME:CST
DTSTART:20251102T070000
END:STANDARD
END:VTIMEZONE
BEGIN:VEVENT
DTSTART;TZID=America/Chicago:20240809T082100
DTEND;TZID=America/Chicago:20240809T082100
DTSTAMP:20260424T103848
CREATED:20240805T112741Z
LAST-MODIFIED:20240909T113235Z
UID:2587-1723191660-1723191660@staartheatre.org
SUMMARY:An Evening with Edgar Allan Poe at STAAR
DESCRIPTION:Join us for “An Evening with Edgar Allan Poe” at STAAR Theatre in Pulaski\, TN\, featuring a series of macabre and chilling stories from the master of Gothic horror. Performances will take place on October 11\, and 12 at 7 p.m. and on October 13 at 2 p.m. at 105 N. First Street. Due to the nature of the material\, parental discretion is advised for children under 12. \n \nEnter the wonderfully creepy world of Edgar Allan Poe with six faithful adaptations of some of his most haunting works. From old favorites to lesser-known gems\, this collection of short plays\, An Evening with Edgar Allen Poe\, represents Poe at his most horrifying. \nStories included in this play:\nThe Cask of Amontillado\nThe Purloined Letter\nThe Fall of the House of Usher\nThe System of Dr. Tarr and Professor Fether\nThe Oblong Box\nThe Tell-Tale Heart\nDirected by Belinda McGill for STAAR Theatre\, we invite you to audition for this thrilling production and bring to life the eerie tales that have captivated readers for generations.
URL:https://staartheatre.org/event/an-evening-with-edgar-allen-poe-at-staar/
LOCATION:STAAR Theatre\, 105 N 1st St\, Pulaski\, TN\, 38478\, United States
CATEGORIES:Current Events,STAAR Blog,Ticket Sales
ATTACH;FMTTYPE=image/jpeg:https://staartheatre.org/wp-content/uploads/2024/08/portrait-62996_1280.jpg
ORGANIZER;CN="STAAR Theatre":MAILTO:info@staartheatre.org
END:VEVENT
BEGIN:VEVENT
DTSTART;TZID=America/Chicago:20240819T180000
DTEND;TZID=America/Chicago:20240819T200000
DTSTAMP:20260424T103848
CREATED:20240810T143036Z
LAST-MODIFIED:20240810T143036Z
UID:2608-1724090400-1724097600@staartheatre.org
SUMMARY:"Grease" Auditions Aug. 19
DESCRIPTION:Grease Audition Form – Click HERE\n\n\nAuditions  \nMonday\, August 19 at 6 P.M.\nTuesday\, August 20 at 6 P.M. \nAges 30+ \nPrepare a song from Grease the stage musical.\nDo a cold read from the script.\nA short choreography combo will be taught – wear proper shoes. \nPerformances November 8-9 & 15-16 | 7 P.M.\nNovember 10 | 2 P.M. \nHold the weekend of November 22-23 for possible additional performances. \nRehearsals Tentative: Tuesdays and Thursdays 6-8pm \nThere is a $50 participation fee due at the first rehearsal\, $75 cap per family. If you would like to request a scholarship\, please see your director for the request. Fee’s offset the cost of scripts\, CD’s\, costumes\, props\, production rights\, etc. \nEach performer is responsible for their own jeans\, t-shirts\, and footwear (eg: tights and dance shoes). More details given after casting. \n\n  \n 
URL:https://staartheatre.org/event/grease-auditions-aug-19/
LOCATION:STAAR Theatre\, 105 N 1st St\, Pulaski\, TN\, 38478\, United States
CATEGORIES:Audition Announcements,Current Events,STAAR Blog
ATTACH;FMTTYPE=image/jpeg:https://staartheatre.org/wp-content/uploads/2024/08/car-4818425_1280.jpg
ORGANIZER;CN="STAAR Theatre":MAILTO:info@staartheatre.org
END:VEVENT
BEGIN:VEVENT
DTSTART;TZID=America/Chicago:20240820T180000
DTEND;TZID=America/Chicago:20240820T200000
DTSTAMP:20260424T103848
CREATED:20240810T143324Z
LAST-MODIFIED:20240810T145348Z
UID:2610-1724176800-1724184000@staartheatre.org
SUMMARY:"Grease" Auditions Aug. 20
DESCRIPTION:Grease Audition Form – Click HERE\n\n\nAuditions  \nMonday\, August 19 at 6 P.M.\nTuesday\, August 20 at 6 P.M. \nAges 30+ \nPrepare a song from Grease the stage musical.\nDo a cold read from the script.\nA short choreography combo will be taught – wear proper shoes. \nPerformances November 8-9 & 15-16 | 7 P.M.\nNovember 10 | 2 P.M. \nHold the weekend of November 22-23 for possible additional performances. \nRehearsals Tentative: Tuesdays and Thursdays 6-8pm \nThere is a $50 participation fee due at the first rehearsal\, $75 cap per family. If you would like to request a scholarship\, please see your director for the request. Fee’s offset the cost of scripts\, CD’s\, costumes\, props\, production rights\, etc. \nEach performer is responsible for their own jeans\, t-shirts\, and footwear (eg: tights and dance shoes). More details given after casting. \n\n  \n 
URL:https://staartheatre.org/event/grease-auditions-aug-20/
LOCATION:STAAR Theatre\, 105 N 1st St\, Pulaski\, TN\, 38478\, United States
CATEGORIES:Audition Announcements,Current Events,STAAR Blog
ATTACH;FMTTYPE=image/jpeg:https://staartheatre.org/wp-content/uploads/2024/08/car-4818425_1280.jpg
ORGANIZER;CN="STAAR Theatre":MAILTO:info@staartheatre.org
END:VEVENT
BEGIN:VEVENT
DTSTART;TZID=America/Chicago:20240823T180000
DTEND;TZID=America/Chicago:20240823T200000
DTSTAMP:20260424T103848
CREATED:20240805T110613Z
LAST-MODIFIED:20240814T211756Z
UID:2578-1724436000-1724443200@staartheatre.org
SUMMARY:An Evening with Edgar Allan Poe Auditions Day 1
DESCRIPTION:Enter the wonderfully creepy world of Edgar Allan Poe with six faithful adaptations of some of his most haunting works. From old favorites to lesser-known gems\, this collection of short plays\, An Evening with Edgar Allen Poe\, represents Poe at his most horrifying. \nStories included in this play:\nThe Cask of Amontillado\nThe Purloined Letter\nThe Fall of the House of Usher\nThe System of Dr. Tarr and Professor Fether\nThe Oblong Box\nThe Tell-Tale Heart\nDirected by Belinda McGill for STAAR Theatre\, we invite you to audition for this thrilling production and bring to life the eerie tales that have captivated readers for generations. \nAudition Details: \nDates: August 24\, 2024\, at 6 p.m. and August 25\, 2024\, at 10 a.m.\nEligibility: Ages 14 to adult\nPreparation: Perform a selection from any work of Poe. It does not have to be memorized.\nLocation: STAAR Theatre\, located on the public square in Pulaski\, TN.\nWebsite: STAARTheatre.org \nPerformance Dates:\nOctober 5\, 11\, and 12 at 7 p.m.\nOctober 6 at 2 p.m. \nWhether you’re an experienced actor or new to the stage\, we encourage you to join us in this spine-chilling journey into the macabre mind of Edgar Allan Poe. Don’t miss the chance to be part of an unforgettable theatrical experience that will both thrill and terrify audiences. Step into the shadows and let your talent shine in the haunting world of Edgar Allan Poe. See you at auditions!
URL:https://staartheatre.org/event/edgar-allan-poe-auditions-auditions-day-1/
LOCATION:STAAR Theatre\, 105 N 1st St\, Pulaski\, TN\, 38478\, United States
CATEGORIES:Audition Announcements,Current Events
ATTACH;FMTTYPE=image/jpeg:https://staartheatre.org/wp-content/uploads/2024/08/portrait-62996_1280.jpg
ORGANIZER;CN="STAAR Theatre":MAILTO:info@staartheatre.org
END:VEVENT
BEGIN:VEVENT
DTSTART;TZID=America/Chicago:20240824T160000
DTEND;TZID=America/Chicago:20240824T170000
DTSTAMP:20260424T103848
CREATED:20240822T162902Z
LAST-MODIFIED:20240822T162902Z
UID:2710-1724515200-1724518800@staartheatre.org
SUMMARY:"Grease" Auditions Aug. 24
DESCRIPTION:Grease Audition Form – Click HERE\n\n\nAuditions  \nSaturday\, August 24\, 4-5 p.m. \nAges 30+ \nPrepare a song from Grease the stage musical.\nDo a cold read from the script.\nA short choreography combo will be taught – wear proper shoes. \nPerformances November 8-9 & 15-16 | 7 P.M.\nNovember 10 | 2 P.M. \nHold the weekend of November 22-23 for possible additional performances. \nRehearsals Tentative: Tuesdays and Thursdays 6-8pm \nThere is a $50 participation fee due at the first rehearsal\, $75 cap per family. If you would like to request a scholarship\, please see your director for the request. Fee’s offset the cost of scripts\, CD’s\, costumes\, props\, production rights\, etc. \nEach performer is responsible for their own jeans\, t-shirts\, and footwear (eg: tights and dance shoes). More details given after casting. \n\n  \n 
URL:https://staartheatre.org/event/grease-auditions-aug-24/
LOCATION:STAAR Theatre\, 105 N 1st St\, Pulaski\, TN\, 38478\, United States
CATEGORIES:Audition Announcements,Current Events,STAAR Blog
ATTACH;FMTTYPE=image/jpeg:https://staartheatre.org/wp-content/uploads/2024/08/car-4818425_1280.jpg
ORGANIZER;CN="STAAR Theatre":MAILTO:info@staartheatre.org
END:VEVENT
END:VCALENDAR