BEGIN:VCALENDAR
VERSION:2.0
PRODID:-//STAAR Theatre - ECPv6.15.20//NONSGML v1.0//EN
CALSCALE:GREGORIAN
METHOD:PUBLISH
X-WR-CALNAME:STAAR Theatre
X-ORIGINAL-URL:https://staartheatre.org
X-WR-CALDESC:Events for STAAR Theatre
REFRESH-INTERVAL;VALUE=DURATION:PT1H
X-Robots-Tag:noindex
X-PUBLISHED-TTL:PT1H
BEGIN:VTIMEZONE
TZID:America/Chicago
BEGIN:DAYLIGHT
TZOFFSETFROM:-0600
TZOFFSETTO:-0500
TZNAME:CDT
DTSTART:20240310T080000
END:DAYLIGHT
BEGIN:STANDARD
TZOFFSETFROM:-0500
TZOFFSETTO:-0600
TZNAME:CST
DTSTART:20241103T070000
END:STANDARD
BEGIN:DAYLIGHT
TZOFFSETFROM:-0600
TZOFFSETTO:-0500
TZNAME:CDT
DTSTART:20250309T080000
END:DAYLIGHT
BEGIN:STANDARD
TZOFFSETFROM:-0500
TZOFFSETTO:-0600
TZNAME:CST
DTSTART:20251102T070000
END:STANDARD
BEGIN:DAYLIGHT
TZOFFSETFROM:-0600
TZOFFSETTO:-0500
TZNAME:CDT
DTSTART:20260308T080000
END:DAYLIGHT
BEGIN:STANDARD
TZOFFSETFROM:-0500
TZOFFSETTO:-0600
TZNAME:CST
DTSTART:20261101T070000
END:STANDARD
END:VTIMEZONE
BEGIN:VEVENT
DTSTART;TZID=America/Chicago:20250502T190000
DTEND;TZID=America/Chicago:20250502T210000
DTSTAMP:20260423T185511
CREATED:20250316T171738Z
LAST-MODIFIED:20250316T171823Z
UID:3542-1746212400-1746219600@staartheatre.org
SUMMARY:A Wrinkle in Time\, May 2
DESCRIPTION:Adapted from Madeleine L’Engle’s much-loved classic tale\, A Wrinkle in Time\, one of literature’s most enduring young heroines\, Meg Murry joins forces with her baby brother Charles Wallace\, friend and neighbor Calvin O’Keefe\, and the celestial beings Mrs. Whatsit\, Mrs. Who\, and Mrs. Which to battle the forces of evil in order to rescue her father\, save humanity\, and discover herself. Traveling through time and space\, Meg must save both her father and the world from IT\, an evil force that is rapidly casting its shadow over the universe. But what does Meg have that IT does not? Love. For in the end\, love is enough to overcome evil and bring IT’s dark world crashing down.
URL:https://staartheatre.org/event/a-wrinkle-in-time-may-2/
LOCATION:STAAR Theatre\, 105 N 1st St\, Pulaski\, TN\, 38478\, United States
CATEGORIES:Current Events
ATTACH;FMTTYPE=image/jpeg:https://staartheatre.org/wp-content/uploads/2025/03/Wrinkle-Web-Blog-Title-Logo.jpg
ORGANIZER;CN="STAAR Theatre":MAILTO:info@staartheatre.org
END:VEVENT
BEGIN:VEVENT
DTSTART;TZID=America/Chicago:20250503T190000
DTEND;TZID=America/Chicago:20250503T210000
DTSTAMP:20260423T185511
CREATED:20250316T171832Z
LAST-MODIFIED:20250316T172110Z
UID:3544-1746298800-1746306000@staartheatre.org
SUMMARY:A Wrinkle in Time\, May 3
DESCRIPTION:Adapted from Madeleine L’Engle’s much-loved classic tale\, A Wrinkle in Time\, one of literature’s most enduring young heroines\, Meg Murry joins forces with her baby brother Charles Wallace\, friend and neighbor Calvin O’Keefe\, and the celestial beings Mrs. Whatsit\, Mrs. Who\, and Mrs. Which to battle the forces of evil in order to rescue her father\, save humanity\, and discover herself. Traveling through time and space\, Meg must save both her father and the world from IT\, an evil force that is rapidly casting its shadow over the universe. But what does Meg have that IT does not? Love. For in the end\, love is enough to overcome evil and bring IT’s dark world crashing down.
URL:https://staartheatre.org/event/a-wrinkle-in-time-may-3/
LOCATION:STAAR Theatre\, 105 N 1st St\, Pulaski\, TN\, 38478\, United States
CATEGORIES:Current Events
ATTACH;FMTTYPE=image/jpeg:https://staartheatre.org/wp-content/uploads/2025/03/Wrinkle-Web-Blog-Title-Logo.jpg
ORGANIZER;CN="STAAR Theatre":MAILTO:info@staartheatre.org
END:VEVENT
END:VCALENDAR