BEGIN:VCALENDAR
VERSION:2.0
PRODID:-//STAAR Theatre - ECPv6.15.20//NONSGML v1.0//EN
CALSCALE:GREGORIAN
METHOD:PUBLISH
X-WR-CALNAME:STAAR Theatre
X-ORIGINAL-URL:https://staartheatre.org
X-WR-CALDESC:Events for STAAR Theatre
REFRESH-INTERVAL;VALUE=DURATION:PT1H
X-Robots-Tag:noindex
X-PUBLISHED-TTL:PT1H
BEGIN:VTIMEZONE
TZID:America/Chicago
BEGIN:DAYLIGHT
TZOFFSETFROM:-0600
TZOFFSETTO:-0500
TZNAME:CDT
DTSTART:20240310T080000
END:DAYLIGHT
BEGIN:STANDARD
TZOFFSETFROM:-0500
TZOFFSETTO:-0600
TZNAME:CST
DTSTART:20241103T070000
END:STANDARD
BEGIN:DAYLIGHT
TZOFFSETFROM:-0600
TZOFFSETTO:-0500
TZNAME:CDT
DTSTART:20250309T080000
END:DAYLIGHT
BEGIN:STANDARD
TZOFFSETFROM:-0500
TZOFFSETTO:-0600
TZNAME:CST
DTSTART:20251102T070000
END:STANDARD
BEGIN:DAYLIGHT
TZOFFSETFROM:-0600
TZOFFSETTO:-0500
TZNAME:CDT
DTSTART:20260308T080000
END:DAYLIGHT
BEGIN:STANDARD
TZOFFSETFROM:-0500
TZOFFSETTO:-0600
TZNAME:CST
DTSTART:20261101T070000
END:STANDARD
END:VTIMEZONE
BEGIN:VEVENT
DTSTART;TZID=America/Chicago:20250614T140000
DTEND;TZID=America/Chicago:20250614T143000
DTSTAMP:20260423T171752
CREATED:20250605T140040Z
LAST-MODIFIED:20250605T140122Z
UID:3646-1749909600-1749911400@staartheatre.org
SUMMARY:Mock Crash: STAAR & EMS
DESCRIPTION:Live Demonstration to Highlight Dangers of Distracted Driving on Saturday\, June 14\nSTAAR Theatre at Antoinette Hall is proud to partner with local and state emergency services for a powerful and emotional live demonstration during this year’s Sundrop Festival during an EMS Mock Crash at the STAAR intersection (Madison and First Street) on Saturday\, June 14 at 2 p.m. \nThe event is designed to bring awareness to the tragic consequences of distracted driving\, especially among young people. This real-time\, highly realistic simulation will involve Pulaski Emergency Services\, Tennessee Highway Patrol\, Pulaski Police Department\, Pulaski Fire Department and other first responders. The public is encouraged to attend and witness how quickly lives can be changed by a moment of inattention. \nStreet Closures and Scene Set-Up\nStreets will close at midnight on Friday\, June 13\, to allow for preparation. Two wrecked vehicles (with all broken glass removed) will be placed overnight in a T-bone collision layout at the intersection. \nLive Mock Crash Event Timeline\n\n10 a.m. – Call time for participating actors\n1:30–1:45 p.m. – Actor placement at the crash site\n2 p.m. – The live emergency event begins (approx. 30 minutes)\n\nDuring the event\, camera crews\, drones and a PA system will capture the action. A jumbotron will be available to help festivalgoers on the other side of the square view the entire scene. Tennessee Highway Patrol Sergeant Stephen Ellis will narrate the scene live\, step by step\, for educational impact. \nThe mock crash scenario is as follows:\nA teen boy\, distracted while pulling up music on his phone\, runs a red light and T-bones a car with a mother and two children. One child will be pronounced dead at the scene\, and the other is in critical condition. The mother and teen drivers are injured but conscious. A frantic father arrives after receiving the news and emotionally confronts the scene. Realistic reactions from all actors\, including bystanders who know the teens\, will add to the powerful message. \nCasting Call for Actors\nSTAAR Theatre is seeking performers for the following key roles: \n\nMother\nYoung Teen (ages 13–15)\nChild (ages 9–12)\nDriving Teen Boy (boyfriend)\nDriving Age Teen Girl (girlfriend)\nFather (arrives after crash)\nBystanders 1 and 2 (friends of teen drivers)\n\nAll actors must be willing to wear trauma makeup and torn clothing\, stay fully in character for this live\, one-take performance and deliver emotionally charged performances. Makeup artists\, wardrobe and rehearsal support will be provided. Actors should wear their own shoes (either to be kept clean or ones that can be damaged). \nSTAAR will provide: \n\nWardrobe (unless actors prefer to use their own costume)\nMakeup artists on-site\nAssistants (2)\nRefreshment table with snacks and lunch\n\nWaivers and media releases will be required. All participants will be safe and guided at all times. \nHow to Get Involved\nActors and volunteers must register on GROUPSPOT using the STAAR Theatre Code: KEJH. \n\nDownload the app\nJoin the STAAR group\nRSVP on the calendar event\n\nWhether performing or supporting\, everyone is encouraged to share this event and help STAAR spread the life-saving message: distracted driving kills. \nFor more information or to get involved\, visit STAARtheatre.org or call 931-371-0955. \nSTAAR Theatre at Antoinette Hall is honored to be part of this unforgettable demonstration and remains committed to using the power of performance to impact lives. Help us make a difference—show up\, share\, and stay safe.
URL:https://staartheatre.org/event/mock-crash-staar-ems/
LOCATION:Downtown Pulaski\, Tennessee\, 110 North Second Street\, Pulaski\, TN\, 38478\, United States
CATEGORIES:Audition Announcements,Current Events,STAAR Blog
ATTACH;FMTTYPE=image/jpeg:https://staartheatre.org/wp-content/uploads/2025/06/Mock-Crash-Web-Event.jpg
ORGANIZER;CN="STAAR Theatre":MAILTO:info@staartheatre.org
END:VEVENT
END:VCALENDAR