BEGIN:VCALENDAR
VERSION:2.0
PRODID:-//STAAR Theatre - ECPv6.15.20//NONSGML v1.0//EN
CALSCALE:GREGORIAN
METHOD:PUBLISH
X-ORIGINAL-URL:https://staartheatre.org
X-WR-CALDESC:Events for STAAR Theatre
REFRESH-INTERVAL;VALUE=DURATION:PT1H
X-Robots-Tag:noindex
X-PUBLISHED-TTL:PT1H
BEGIN:VTIMEZONE
TZID:America/Chicago
BEGIN:DAYLIGHT
TZOFFSETFROM:-0600
TZOFFSETTO:-0500
TZNAME:CDT
DTSTART:20220313T080000
END:DAYLIGHT
BEGIN:STANDARD
TZOFFSETFROM:-0500
TZOFFSETTO:-0600
TZNAME:CST
DTSTART:20221106T070000
END:STANDARD
BEGIN:DAYLIGHT
TZOFFSETFROM:-0600
TZOFFSETTO:-0500
TZNAME:CDT
DTSTART:20230312T080000
END:DAYLIGHT
BEGIN:STANDARD
TZOFFSETFROM:-0500
TZOFFSETTO:-0600
TZNAME:CST
DTSTART:20231105T070000
END:STANDARD
BEGIN:DAYLIGHT
TZOFFSETFROM:-0600
TZOFFSETTO:-0500
TZNAME:CDT
DTSTART:20240310T080000
END:DAYLIGHT
BEGIN:STANDARD
TZOFFSETFROM:-0500
TZOFFSETTO:-0600
TZNAME:CST
DTSTART:20241103T070000
END:STANDARD
END:VTIMEZONE
BEGIN:VEVENT
DTSTART;TZID=America/Chicago:20230911T100000
DTEND;TZID=America/Chicago:20231016T110000
DTSTAMP:20260424T154118
CREATED:20230807T030509Z
LAST-MODIFIED:20230809T220623Z
UID:1573-1694426400-1697454000@staartheatre.org
SUMMARY:Monday 10a: BEGINNER TAP [Adult] (Mary Ann Trimble)
DESCRIPTION:Mary Ann Trimble will be teaching several dance classes this fall. Each class session is 6 weeks long and classes are 1 hour each. BEGINNER TAP is for those who have never taken a tap class\, or would like a refresher course. \nThere is a ballet class after this class if you’d like to enroll in both. \nClass info:\n10 a.m. – 11 a.m. on Mondays\n6 week session\nAdults 18+ \nAttire:\nClothing you are comfortable moving in. You may wear dance attire if you choose.\nTap Shoes required \nClass Minimum: 4 students \nREGISTER ONLINE CLICK HERE!
URL:https://staartheatre.org/event/fall-mon-dance-beg-tap/
LOCATION:STAAR Theatre\, 105 N 1st St\, Pulaski\, TN\, 38478\, United States
CATEGORIES:Performing Arts Classes
ATTACH;FMTTYPE=image/png:https://staartheatre.org/wp-content/uploads/2023/08/Dance.png
END:VEVENT
BEGIN:VEVENT
DTSTART;TZID=America/Chicago:20230911T110000
DTEND;TZID=America/Chicago:20231016T120000
DTSTAMP:20260424T154118
CREATED:20230807T031434Z
LAST-MODIFIED:20230809T220632Z
UID:1581-1694430000-1697457600@staartheatre.org
SUMMARY:Monday 11a: BALLET [Adult] (Mary Ann Trimble)
DESCRIPTION:Mary Ann Trimble will be teaching several dance classes this fall. Each class session is 6 weeks long and classes are 1 hour each. BALLET is for adults of any experience level. There will be both barre and floor techniques.  \nThere is a Tap class before and after this class if you’d like to take both dance classes. \nClass info:\n11 a.m.- 12 p.m. on Mondays\n6 week session\nAdults 18+ \nAttire:\nClothing you are comfortable moving in. You may wear dance attire if you choose.\nBallet shoes \nClass Minimum: 4 students \nREGISTER ONLINE CLICK HERE!
URL:https://staartheatre.org/event/fall-mon-ballet/
LOCATION:STAAR Theatre\, 105 N 1st St\, Pulaski\, TN\, 38478\, United States
CATEGORIES:Performing Arts Classes
ATTACH;FMTTYPE=image/png:https://staartheatre.org/wp-content/uploads/2023/08/Dance.png
END:VEVENT
BEGIN:VEVENT
DTSTART;TZID=America/Chicago:20230911T120000
DTEND;TZID=America/Chicago:20231016T130000
DTSTAMP:20260424T154118
CREATED:20230807T031907Z
LAST-MODIFIED:20230809T220642Z
UID:1584-1694433600-1697461200@staartheatre.org
SUMMARY:Monday 12p: INTERMEDIATE TAP [Adult] (Mary Ann Trimble)
DESCRIPTION:Mary Ann Trimble will be teaching several dance classes this fall. Each class session is 6 weeks long and classes are 1 hour each. INTERMEDIATE TAP is for those who have some experience with tap and proficient in basic tap steps.  \nThere is a ballet class preceding this class if you’d like to enroll in both. \nClass info:\n12 p.m. – 1 p.m. on Mondays\n6 week session\nAdults 18+ \nAttire:\nClothing you are comfortable moving in. You may wear dance attire if you choose.\nTap Shoes required \nClass Minimum: 4 students \nREGISTER ONLINE CLICK HERE!
URL:https://staartheatre.org/event/fall-mon-int-tap/
LOCATION:STAAR Theatre\, 105 N 1st St\, Pulaski\, TN\, 38478\, United States
CATEGORIES:Performing Arts Classes
ATTACH;FMTTYPE=image/png:https://staartheatre.org/wp-content/uploads/2023/08/Dance.png
END:VEVENT
BEGIN:VEVENT
DTSTART;TZID=America/Chicago:20230912T183000
DTEND;TZID=America/Chicago:20231017T193000
DTSTAMP:20260424T154118
CREATED:20230807T024341Z
LAST-MODIFIED:20230809T220651Z
UID:1558-1694543400-1697571000@staartheatre.org
SUMMARY:Tuesday 6:30p: VOICE TECHNIQUE [16-Adult] (Holly Aldridge)
DESCRIPTION:Holly Aldridge will be teaching vocal technique and choir classes this fall. Each class session is 6 weeks long and classes are 1 hour each. VOICE TECHNIQUE is a small group atmosphere\, where participants will learn proper singing and breathing techniques. \nThere will be a choir class immediately following this class\, if you would like to enroll in both.  \nClass info:\n6:30 p.m. – 7:30 p.m. on Tuesdays\n6 week session\nTeens 16+ and Adults \nMaterials:\nPencil\nWater bottle \nCulmination:\nThere will be a mini recital at the end of the last day of class \nClass Minimum: 4 students \nREGISTER ONLINE CLICK HERE!
URL:https://staartheatre.org/event/fall-tues-voice-adults/
LOCATION:STAAR Theatre\, 105 N 1st St\, Pulaski\, TN\, 38478\, United States
CATEGORIES:Performing Arts Classes
ATTACH;FMTTYPE=image/png:https://staartheatre.org/wp-content/uploads/2023/08/Voice.png
END:VEVENT
BEGIN:VEVENT
DTSTART;TZID=America/Chicago:20230912T193000
DTEND;TZID=America/Chicago:20231017T203000
DTSTAMP:20260424T154118
CREATED:20230807T032217Z
LAST-MODIFIED:20230809T220659Z
UID:1587-1694547000-1697574600@staartheatre.org
SUMMARY:Tuesday 7:30p: CHOIR [16-Adult] (Holly Aldridge)
DESCRIPTION:Holly Aldridge will be teaching vocal technique and choir classes this fall. Each class session is 6 weeks long and classes are 1 hour each. CHOIR will focus on using correct choral techniques to sing together. Songs will be chosen to fit the group. Possible styles to include choral/classical\, folk\, traditional\, show tunes\, a cappella…the choices are endless! The 6 week course will end with a culminating performance of music learned. Men and women are both welcome.  \nThere will be a Vocal Technique class immediately before this class\, if you would like to enroll in both.  \nClass info:\n7:30 p.m. – 8:30 p.m. on Tuesdays\n6 week session\nTeens 16+ and Adults \nMaterials:\nPencil\nWater bottle \nCulmination:\nThere will be a mini recital at the end of the last day of class \nClass Minimum: 8 students \nREGISTER ONLINE CLICK HERE!
URL:https://staartheatre.org/event/fall-tues-choir/
LOCATION:STAAR Theatre\, 105 N 1st St\, Pulaski\, TN\, 38478\, United States
CATEGORIES:Performing Arts Classes
ATTACH;FMTTYPE=image/png:https://staartheatre.org/wp-content/uploads/2023/08/Choir.png
END:VEVENT
BEGIN:VEVENT
DTSTART;TZID=America/Chicago:20230913T140000
DTEND;TZID=America/Chicago:20231018T150000
DTSTAMP:20260424T154118
CREATED:20230807T033148Z
LAST-MODIFIED:20230809T220711Z
UID:1590-1694613600-1697641200@staartheatre.org
SUMMARY:Wednesday 2p: MUSIC [3-9yo] (Rosalyn Craft)
DESCRIPTION:Rosalyn Craft will be teaching a music class this fall. MUSIC will cover basic music theory\, singing solfeg\, and learning a few folksongs. \nThis is a parent/child class. Younger siblings are welcome\, but cannot be a distraction to the class. \nClass info:\n2 p.m. – 3 p.m. on Wednesdays\n6 week session\nKids 3-9yo \nCulmination:\nThere will be a mini recital at the end of the last day of class \nClass Minimum: 4 students \nREGISTER ONLINE CLICK HERE!
URL:https://staartheatre.org/event/fall-wed-music/
LOCATION:STAAR Theatre\, 105 N 1st St\, Pulaski\, TN\, 38478\, United States
CATEGORIES:Performing Arts Classes
ATTACH;FMTTYPE=image/png:https://staartheatre.org/wp-content/uploads/2023/08/Music.png
END:VEVENT
BEGIN:VEVENT
DTSTART;TZID=America/Chicago:20230914T133000
DTEND;TZID=America/Chicago:20231019T143000
DTSTAMP:20260424T154118
CREATED:20230807T034157Z
LAST-MODIFIED:20230809T220740Z
UID:1593-1694698200-1697725800@staartheatre.org
SUMMARY:Thursday 1:30p: ACTING FUN FOR SENIORS [Adult] (Sandy Slayton-Mavrotheris)
DESCRIPTION:Sandy Slayton-Mavrotheris will be teaching several acting classes this fall. ACTING FUN FOR SENIORS will be a fun atmosphere to learn acting techniques. \nClass info:\n1:30 p.m. – 2:30 p.m. on Thursdays\n6 week session\nAdults 55+ \nClass Minimum: 4 students \nREGISTER ONLINE CLICK HERE!
URL:https://staartheatre.org/event/fall-thurs-acting-seniors/
LOCATION:STAAR Theatre\, 105 N 1st St\, Pulaski\, TN\, 38478\, United States
CATEGORIES:Performing Arts Classes
ATTACH;FMTTYPE=image/png:https://staartheatre.org/wp-content/uploads/2023/08/Acting.png
END:VEVENT
BEGIN:VEVENT
DTSTART;TZID=America/Chicago:20230914T143000
DTEND;TZID=America/Chicago:20231019T153000
DTSTAMP:20260424T154118
CREATED:20230807T034456Z
LAST-MODIFIED:20230809T220751Z
UID:1596-1694701800-1697729400@staartheatre.org
SUMMARY:Thursday 2:30p: ACTING FUN FOR CHILDREN [8-18yo] (Sandy Slayton-Mavrotheris)
DESCRIPTION:Sandy Slayton-Mavrotheris will be teaching several acting classes this fall. ACTING FUN FOR CHILDREN will be a fun atmosphere to learn acting techniques. \nClass info:\n2:30 p.m. – 3:30 p.m. on Thursdays\n6 week session\nAges 8-18yo \nClass Minimum: 4 students \nREGISTER ONLINE CLICK HERE!
URL:https://staartheatre.org/event/fall-thurs-acting-kids/
LOCATION:STAAR Theatre\, 105 N 1st St\, Pulaski\, TN\, 38478\, United States
CATEGORIES:Performing Arts Classes
ATTACH;FMTTYPE=image/png:https://staartheatre.org/wp-content/uploads/2023/08/Acting.png
END:VEVENT
BEGIN:VEVENT
DTSTART;TZID=America/Chicago:20230915T090000
DTEND;TZID=America/Chicago:20231020T103000
DTSTAMP:20260424T154118
CREATED:20230807T025759Z
LAST-MODIFIED:20230809T220800Z
UID:1563-1694768400-1697797800@staartheatre.org
SUMMARY:Saturday 9a: THEATER DANCE COMBO [12-18yo] (Mary Ann Trimble)
DESCRIPTION:Mary Ann Trimble will be teaching several dance classes this fall. Each class session is 6 weeks long and classes are 1 hour each. THEATRE DANCE COMBO will have tap\, jazz\, and dance technique for musical theater. Boys and girls are both welcome. \nThere is a Voice Technique class after this class from 11-12pm if you’d like to enroll in both. \nClass info:\n9 a.m. – 10:30 a.m. on Saturdays\n6 week session\n12-18yo \nAttire:\nClothing you are comfortable moving in. You may wear dance attire if you choose.\nSHOES: Jazz shoes and Tap Shoes \nClass Minimum: 4 students \nREGISTER ONLINE CLICK HERE!
URL:https://staartheatre.org/event/sat-dance-teens/
LOCATION:STAAR Theatre\, 105 N 1st St\, Pulaski\, TN\, 38478\, United States
CATEGORIES:Performing Arts Classes
ATTACH;FMTTYPE=image/png:https://staartheatre.org/wp-content/uploads/2023/08/Dance.png
END:VEVENT
BEGIN:VEVENT
DTSTART;TZID=America/Chicago:20230915T110000
DTEND;TZID=America/Chicago:20231020T120000
DTSTAMP:20260424T154118
CREATED:20230807T024944Z
LAST-MODIFIED:20230809T220808Z
UID:1561-1694775600-1697803200@staartheatre.org
SUMMARY:Saturday 11a: ADOLESCENT VOICE TECHNIQUE [12-18yo] (Holly Aldridge)
DESCRIPTION:Holly Aldridge will be teaching vocal technique and choir classes this fall. Each class session is 6 weeks long and classes are 1 hour each. VOICE TECHNIQUE is a small group atmosphere\, where participants will learn proper singing and breathing techniques. \nThere is a Theatre Dance Combo class before this class from 9-10:30am if you’d like to enroll in both. \nClass info:\n11 a.m. – 12 p.m. on Saturdays\n6 week session\nAdolescents 12-18yo \nMaterials:\nPencil\nWater bottle \nCulmination:\nThere will be a mini recital at the end of the last day of class \nClass Minimum: 4 students \nREGISTER ONLINE CLICK HERE!
URL:https://staartheatre.org/event/fall-sat-voice-adolescent/
LOCATION:STAAR Theatre\, 105 N 1st St\, Pulaski\, TN\, 38478\, United States
CATEGORIES:Performing Arts Classes
ATTACH;FMTTYPE=image/png:https://staartheatre.org/wp-content/uploads/2023/08/Voice.png
END:VEVENT
BEGIN:VEVENT
DTSTART;TZID=America/Chicago:20230915T110000
DTEND;TZID=America/Chicago:20231020T120000
DTSTAMP:20260424T154118
CREATED:20230807T030041Z
LAST-MODIFIED:20230809T220539Z
UID:1567-1694775600-1697803200@staartheatre.org
SUMMARY:Saturday 11a: THEATER DANCE COMBO [8-11yo] (Mary Ann Trimble)
DESCRIPTION:Mary Ann Trimble will be teaching several dance classes this fall. Each class session is 6 weeks long and classes are 1 hour each. THEATRE DANCE COMBO will have tap\, jazz\, and dance technique for musical theater. Boys and girls are both welcome.\n \nThere is a Voice Technique class after this class from 12-1pm if you’d like to enroll in both. \nClass info:\n11 a.m. – 12 p.m. on Saturdays\n6 week session\nKids 8-11yo \nAttire:\nClothing you are comfortable moving in. You may wear dance attire if you choose.\nSHOES: Jazz shoes and Tap Shoes \nClass Minimum: 8 students \nREGISTER ONLINE CLICK HERE!
URL:https://staartheatre.org/event/fall-sat-dance-kids/
LOCATION:STAAR Theatre\, 105 N 1st St\, Pulaski\, TN\, 38478\, United States
CATEGORIES:Performing Arts Classes
ATTACH;FMTTYPE=image/png:https://staartheatre.org/wp-content/uploads/2023/08/Dance.png
END:VEVENT
BEGIN:VEVENT
DTSTART;TZID=America/Chicago:20230915T120000
DTEND;TZID=America/Chicago:20231020T130000
DTSTAMP:20260424T154118
CREATED:20230807T014734Z
LAST-MODIFIED:20230809T220522Z
UID:1551-1694779200-1697806800@staartheatre.org
SUMMARY:Saturday 12p: YOUTH VOICE TECHNIQUE [8-12yo] (Holly Aldridge)
DESCRIPTION:Holly Aldridge will be teaching vocal technique and choir classes this fall. Each class session is 6 weeks long and classes are 1 hour each. VOICE TECHNIQUE is a small group atmosphere\, where participants will learn proper singing and breathing techniques. \nThere is a Theatre Dance Combo class before this class from 11-12pm if you’d like to enroll in both. \nClass info:\n12 p.m. – 1 p.m. on Saturdays\n6 week session\nYouths 8-12yo \nMaterials:\nPencil\nWater bottle \nCulmination:\nThere will be a mini recital at the end of the last day of class \nClass Minimum: 4 students \nREGISTER ONLINE CLICK HERE!
URL:https://staartheatre.org/event/fall-sat-voice-youth/
LOCATION:STAAR Theatre\, 105 N 1st St\, Pulaski\, TN\, 38478\, United States
CATEGORIES:Performing Arts Classes
ATTACH;FMTTYPE=image/png:https://staartheatre.org/wp-content/uploads/2023/08/Voice.png
END:VEVENT
END:VCALENDAR