BEGIN:VCALENDAR
VERSION:2.0
PRODID:-//STAAR Theatre - ECPv6.15.20//NONSGML v1.0//EN
CALSCALE:GREGORIAN
METHOD:PUBLISH
X-ORIGINAL-URL:https://staartheatre.org
X-WR-CALDESC:Events for STAAR Theatre
REFRESH-INTERVAL;VALUE=DURATION:PT1H
X-Robots-Tag:noindex
X-PUBLISHED-TTL:PT1H
BEGIN:VTIMEZONE
TZID:America/Chicago
BEGIN:DAYLIGHT
TZOFFSETFROM:-0600
TZOFFSETTO:-0500
TZNAME:CDT
DTSTART:20230312T080000
END:DAYLIGHT
BEGIN:STANDARD
TZOFFSETFROM:-0500
TZOFFSETTO:-0600
TZNAME:CST
DTSTART:20231105T070000
END:STANDARD
BEGIN:DAYLIGHT
TZOFFSETFROM:-0600
TZOFFSETTO:-0500
TZNAME:CDT
DTSTART:20240310T080000
END:DAYLIGHT
BEGIN:STANDARD
TZOFFSETFROM:-0500
TZOFFSETTO:-0600
TZNAME:CST
DTSTART:20241103T070000
END:STANDARD
BEGIN:DAYLIGHT
TZOFFSETFROM:-0600
TZOFFSETTO:-0500
TZNAME:CDT
DTSTART:20250309T080000
END:DAYLIGHT
BEGIN:STANDARD
TZOFFSETFROM:-0500
TZOFFSETTO:-0600
TZNAME:CST
DTSTART:20251102T070000
END:STANDARD
END:VTIMEZONE
BEGIN:VEVENT
DTSTART;TZID=America/Chicago:20241207T090000
DTEND;TZID=America/Chicago:20241207T123000
DTSTAMP:20260423T163406
CREATED:20241023T121011Z
LAST-MODIFIED:20241024T015805Z
UID:3161-1733562000-1733574600@staartheatre.org
SUMMARY:Winter Dance Classes 2024 Week 4
DESCRIPTION:Starting Nov. 9\, 2024\, and lasting for 6 weeks. Thanksgiving break Nov 30. \nRegister Here \nChoreography for Ballet | 9-10:15 a.m. | Ages 12-Adult \nFor teens and adults\, beginner and intermediate. Learn tap and musical theater dance steps. \nStudents will be using the basic principles of choreography with both ballet and pointe. Group and individual choreography will be worked on. \nYouth Combo | 10:15-11:15 a.m. | Ages 5-11 \nBallet floor work\, tap\, and jazz for the stage. \nAdult Combo: Tap & Musical Theater | 11:15 -12:45 p.m. | Ages 14-Adult \nFor beginner and intermediate dancers. Tap and dance combos for musical theater. \n 
URL:https://staartheatre.org/event/winter-dance-classes-2024-week-4/
LOCATION:STAAR Theatre\, 105 N 1st St\, Pulaski\, TN\, 38478\, United States
CATEGORIES:Current Events,Performing Arts Classes
ATTACH;FMTTYPE=image/jpeg:https://staartheatre.org/wp-content/uploads/2024/08/IMG_2137-copy.jpg
ORGANIZER;CN="STAAR Theatre":MAILTO:info@staartheatre.org
END:VEVENT
BEGIN:VEVENT
DTSTART;TZID=America/Chicago:20241214T090000
DTEND;TZID=America/Chicago:20241214T123000
DTSTAMP:20260423T163406
CREATED:20241023T121128Z
LAST-MODIFIED:20241024T015752Z
UID:3163-1734166800-1734179400@staartheatre.org
SUMMARY:Winter Dance Classes 2024 Week 5
DESCRIPTION:Starting Nov. 9\, 2024\, and lasting for 6 weeks. Thanksgiving break Nov 30. \nRegister Here \nChoreography for Ballet | 9-10:15 a.m. | Ages 12-Adult \nFor teens and adults\, beginner and intermediate. Learn tap and musical theater dance steps. \nStudents will be using the basic principles of choreography with both ballet and pointe. Group and individual choreography will be worked on. \nYouth Combo | 10:15-11:15 a.m. | Ages 5-11 \nBallet floor work\, tap\, and jazz for the stage. \nAdult Combo: Tap & Musical Theater | 11:15 -12:45 p.m. | Ages 14-Adult \nFor beginner and intermediate dancers. Tap and dance combos for musical theater. \n 
URL:https://staartheatre.org/event/winter-dance-classes-2024-week-5/
LOCATION:STAAR Theatre\, 105 N 1st St\, Pulaski\, TN\, 38478\, United States
CATEGORIES:Current Events,Performing Arts Classes
ATTACH;FMTTYPE=image/jpeg:https://staartheatre.org/wp-content/uploads/2024/08/IMG_2137-copy.jpg
ORGANIZER;CN="STAAR Theatre":MAILTO:info@staartheatre.org
END:VEVENT
BEGIN:VEVENT
DTSTART;TZID=America/Chicago:20241221T090000
DTEND;TZID=America/Chicago:20241221T123000
DTSTAMP:20260423T163406
CREATED:20241023T121257Z
LAST-MODIFIED:20241024T015738Z
UID:3165-1734771600-1734784200@staartheatre.org
SUMMARY:Winter Dance Classes 2024 Week 6
DESCRIPTION:Starting Nov. 9\, 2024\, and lasting for 6 weeks. Thanksgiving break Nov 30. \nRegister Here \nChoreography for Ballet | 9-10:15 a.m. | Ages 12-Adult \nFor teens and adults\, beginner and intermediate. Learn tap and musical theater dance steps. \nStudents will be using the basic principles of choreography with both ballet and pointe. Group and individual choreography will be worked on. \nYouth Combo | 10:15-11:15 a.m. | Ages 5-11 \nBallet floor work\, tap\, and jazz for the stage. \nAdult Combo: Tap & Musical Theater | 11:15 -12:45 p.m. | Ages 14-Adult \nFor beginner and intermediate dancers. Tap and dance combos for musical theater. \n 
URL:https://staartheatre.org/event/winter-dance-classes-2024-week-6/
LOCATION:STAAR Theatre\, 105 N 1st St\, Pulaski\, TN\, 38478\, United States
CATEGORIES:Current Events,Performing Arts Classes
ATTACH;FMTTYPE=image/jpeg:https://staartheatre.org/wp-content/uploads/2024/08/IMG_2137-copy.jpg
ORGANIZER;CN="STAAR Theatre":MAILTO:info@staartheatre.org
END:VEVENT
END:VCALENDAR