BEGIN:VCALENDAR
VERSION:2.0
PRODID:-//STAAR Theatre - ECPv6.15.20//NONSGML v1.0//EN
CALSCALE:GREGORIAN
METHOD:PUBLISH
X-ORIGINAL-URL:https://staartheatre.org
X-WR-CALDESC:Events for STAAR Theatre
REFRESH-INTERVAL;VALUE=DURATION:PT1H
X-Robots-Tag:noindex
X-PUBLISHED-TTL:PT1H
BEGIN:VTIMEZONE
TZID:America/Chicago
BEGIN:DAYLIGHT
TZOFFSETFROM:-0600
TZOFFSETTO:-0500
TZNAME:CDT
DTSTART:20240310T080000
END:DAYLIGHT
BEGIN:STANDARD
TZOFFSETFROM:-0500
TZOFFSETTO:-0600
TZNAME:CST
DTSTART:20241103T070000
END:STANDARD
BEGIN:DAYLIGHT
TZOFFSETFROM:-0600
TZOFFSETTO:-0500
TZNAME:CDT
DTSTART:20250309T080000
END:DAYLIGHT
BEGIN:STANDARD
TZOFFSETFROM:-0500
TZOFFSETTO:-0600
TZNAME:CST
DTSTART:20251102T070000
END:STANDARD
BEGIN:DAYLIGHT
TZOFFSETFROM:-0600
TZOFFSETTO:-0500
TZNAME:CDT
DTSTART:20260308T080000
END:DAYLIGHT
BEGIN:STANDARD
TZOFFSETFROM:-0500
TZOFFSETTO:-0600
TZNAME:CST
DTSTART:20261101T070000
END:STANDARD
END:VTIMEZONE
BEGIN:VEVENT
DTSTART;TZID=America/Chicago:20250306T180000
DTEND;TZID=America/Chicago:20250306T200000
DTSTAMP:20260423T210408
CREATED:20250304T132643Z
LAST-MODIFIED:20250304T132643Z
UID:3497-1741284000-1741291200@staartheatre.org
SUMMARY:Finding Nemo Opening Night
DESCRIPTION:Disney’s Finding Nemo KIDS is a 30-minute musical adaptation of the beloved 2003 Pixar movie Finding Nemo\, with new music by award-winning songwriting team Kristen Anderson-Lopez and Robert Lopez. Marlin\, an anxious and over-protective clownfish\, lives in the Great Barrier Reef with his kid Nemo\, who longs to explore the world beyond their anemone home. \nGet Tickets HERE \nWhen Nemo is captured and taken to Sydney\, Marlin faces his fears and sets off on an epic adventure across the ocean. With the help of lovable characters such as optimistic Dory\, laid-back sea turtle Crush\, and the supportive Tank Gang\, Marlin and Nemo both overcome challenges on their journey to find each other and themselves. \nFeaturing memorable songs such as “Just Keep Swimming\,” “Fish Are Friends Not Food\,” and “Go With the Flow\,” Finding Nemo KIDS brings a vibrant underwater world to life on stage in a story full of family\, friendship\, and adventure.
URL:https://staartheatre.org/event/finding-nemo-opening-night/
LOCATION:STAAR Theatre\, 105 N 1st St\, Pulaski\, TN\, 38478\, United States
CATEGORIES:Current Events,Ticket Sales
ATTACH;FMTTYPE=image/jpeg:https://staartheatre.org/wp-content/uploads/2024/11/Nemo-Circle-ombre-White-Logo.jpg
ORGANIZER;CN="STAAR Theatre":MAILTO:info@staartheatre.org
END:VEVENT
BEGIN:VEVENT
DTSTART;TZID=America/Chicago:20250307T180000
DTEND;TZID=America/Chicago:20250307T200000
DTSTAMP:20260423T210408
CREATED:20250304T132743Z
LAST-MODIFIED:20250304T132911Z
UID:3499-1741370400-1741377600@staartheatre.org
SUMMARY:Finding Nemo
DESCRIPTION:Disney’s Finding Nemo KIDS is a 30-minute musical adaptation of the beloved 2003 Pixar movie Finding Nemo\, with new music by award-winning songwriting team Kristen Anderson-Lopez and Robert Lopez. Marlin\, an anxious and over-protective clownfish\, lives in the Great Barrier Reef with his kid Nemo\, who longs to explore the world beyond their anemone home. \nGet Tickets HERE \nWhen Nemo is captured and taken to Sydney\, Marlin faces his fears and sets off on an epic adventure across the ocean. With the help of lovable characters such as optimistic Dory\, laid-back sea turtle Crush\, and the supportive Tank Gang\, Marlin and Nemo both overcome challenges on their journey to find each other and themselves. \nFeaturing memorable songs such as “Just Keep Swimming\,” “Fish Are Friends Not Food\,” and “Go With the Flow\,” Finding Nemo KIDS brings a vibrant underwater world to life on stage in a story full of family\, friendship\, and adventure.
URL:https://staartheatre.org/event/finding-nemo-march-7/
LOCATION:STAAR Theatre\, 105 N 1st St\, Pulaski\, TN\, 38478\, United States
CATEGORIES:Current Events,Ticket Sales
ATTACH;FMTTYPE=image/jpeg:https://staartheatre.org/wp-content/uploads/2024/11/Nemo-Circle-ombre-White-Logo.jpg
ORGANIZER;CN="STAAR Theatre":MAILTO:info@staartheatre.org
END:VEVENT
BEGIN:VEVENT
DTSTART;TZID=America/Chicago:20250308T150000
DTEND;TZID=America/Chicago:20250308T170000
DTSTAMP:20260423T210408
CREATED:20250304T132939Z
LAST-MODIFIED:20250304T133117Z
UID:3501-1741446000-1741453200@staartheatre.org
SUMMARY:Finding Nemo Matinee I
DESCRIPTION:Disney’s Finding Nemo KIDS is a 30-minute musical adaptation of the beloved 2003 Pixar movie Finding Nemo\, with new music by award-winning songwriting team Kristen Anderson-Lopez and Robert Lopez. Marlin\, an anxious and over-protective clownfish\, lives in the Great Barrier Reef with his kid Nemo\, who longs to explore the world beyond their anemone home. \nGet Tickets HERE \nWhen Nemo is captured and taken to Sydney\, Marlin faces his fears and sets off on an epic adventure across the ocean. With the help of lovable characters such as optimistic Dory\, laid-back sea turtle Crush\, and the supportive Tank Gang\, Marlin and Nemo both overcome challenges on their journey to find each other and themselves. \nFeaturing memorable songs such as “Just Keep Swimming\,” “Fish Are Friends Not Food\,” and “Go With the Flow\,” Finding Nemo KIDS brings a vibrant underwater world to life on stage in a story full of family\, friendship\, and adventure.
URL:https://staartheatre.org/event/finding-nemo-march-8/
LOCATION:STAAR Theatre\, 105 N 1st St\, Pulaski\, TN\, 38478\, United States
CATEGORIES:Current Events,Ticket Sales
ATTACH;FMTTYPE=image/jpeg:https://staartheatre.org/wp-content/uploads/2024/11/Nemo-Circle-ombre-White-Logo.jpg
ORGANIZER;CN="STAAR Theatre":MAILTO:info@staartheatre.org
END:VEVENT
BEGIN:VEVENT
DTSTART;TZID=America/Chicago:20250309T150000
DTEND;TZID=America/Chicago:20250309T170000
DTSTAMP:20260423T210408
CREATED:20250304T133242Z
LAST-MODIFIED:20250304T133340Z
UID:3506-1741532400-1741539600@staartheatre.org
SUMMARY:Finding Nemo Matinee Sunday Show
DESCRIPTION:Disney’s Finding Nemo KIDS is a 30-minute musical adaptation of the beloved 2003 Pixar movie Finding Nemo\, with new music by award-winning songwriting team Kristen Anderson-Lopez and Robert Lopez. Marlin\, an anxious and over-protective clownfish\, lives in the Great Barrier Reef with his kid Nemo\, who longs to explore the world beyond their anemone home. \nGet Tickets HERE \nWhen Nemo is captured and taken to Sydney\, Marlin faces his fears and sets off on an epic adventure across the ocean. With the help of lovable characters such as optimistic Dory\, laid-back sea turtle Crush\, and the supportive Tank Gang\, Marlin and Nemo both overcome challenges on their journey to find each other and themselves. \nFeaturing memorable songs such as “Just Keep Swimming\,” “Fish Are Friends Not Food\,” and “Go With the Flow\,” Finding Nemo KIDS brings a vibrant underwater world to life on stage in a story full of family\, friendship\, and adventure.
URL:https://staartheatre.org/event/finding-nemo-sunday-show/
LOCATION:STAAR Theatre\, 105 N 1st St\, Pulaski\, TN\, 38478\, United States
CATEGORIES:Current Events,Ticket Sales
ATTACH;FMTTYPE=image/jpeg:https://staartheatre.org/wp-content/uploads/2024/11/Nemo-Circle-ombre-White-Logo.jpg
ORGANIZER;CN="STAAR Theatre":MAILTO:info@staartheatre.org
END:VEVENT
BEGIN:VEVENT
DTSTART;TZID=America/Chicago:20250314T180000
DTEND;TZID=America/Chicago:20250314T200000
DTSTAMP:20260423T210408
CREATED:20250304T133423Z
LAST-MODIFIED:20250304T133514Z
UID:3509-1741975200-1741982400@staartheatre.org
SUMMARY:Finding Nemo
DESCRIPTION:Disney’s Finding Nemo KIDS is a 30-minute musical adaptation of the beloved 2003 Pixar movie Finding Nemo\, with new music by award-winning songwriting team Kristen Anderson-Lopez and Robert Lopez. Marlin\, an anxious and over-protective clownfish\, lives in the Great Barrier Reef with his kid Nemo\, who longs to explore the world beyond their anemone home. \nGet Tickets HERE \nWhen Nemo is captured and taken to Sydney\, Marlin faces his fears and sets off on an epic adventure across the ocean. With the help of lovable characters such as optimistic Dory\, laid-back sea turtle Crush\, and the supportive Tank Gang\, Marlin and Nemo both overcome challenges on their journey to find each other and themselves. \nFeaturing memorable songs such as “Just Keep Swimming\,” “Fish Are Friends Not Food\,” and “Go With the Flow\,” Finding Nemo KIDS brings a vibrant underwater world to life on stage in a story full of family\, friendship\, and adventure.
URL:https://staartheatre.org/event/finding-nemo-march-14/
LOCATION:STAAR Theatre\, 105 N 1st St\, Pulaski\, TN\, 38478\, United States
CATEGORIES:Current Events,Ticket Sales
ATTACH;FMTTYPE=image/jpeg:https://staartheatre.org/wp-content/uploads/2024/11/Nemo-Circle-ombre-White-Logo.jpg
ORGANIZER;CN="STAAR Theatre":MAILTO:info@staartheatre.org
END:VEVENT
BEGIN:VEVENT
DTSTART;TZID=America/Chicago:20250315T150000
DTEND;TZID=America/Chicago:20250315T170000
DTSTAMP:20260423T210408
CREATED:20250304T133132Z
LAST-MODIFIED:20250304T133223Z
UID:3504-1742050800-1742058000@staartheatre.org
SUMMARY:Finding Nemo Matinee II
DESCRIPTION:Disney’s Finding Nemo KIDS is a 30-minute musical adaptation of the beloved 2003 Pixar movie Finding Nemo\, with new music by award-winning songwriting team Kristen Anderson-Lopez and Robert Lopez. Marlin\, an anxious and over-protective clownfish\, lives in the Great Barrier Reef with his kid Nemo\, who longs to explore the world beyond their anemone home. \nGet Tickets HERE \nWhen Nemo is captured and taken to Sydney\, Marlin faces his fears and sets off on an epic adventure across the ocean. With the help of lovable characters such as optimistic Dory\, laid-back sea turtle Crush\, and the supportive Tank Gang\, Marlin and Nemo both overcome challenges on their journey to find each other and themselves. \nFeaturing memorable songs such as “Just Keep Swimming\,” “Fish Are Friends Not Food\,” and “Go With the Flow\,” Finding Nemo KIDS brings a vibrant underwater world to life on stage in a story full of family\, friendship\, and adventure.
URL:https://staartheatre.org/event/finding-nemo-march-15/
LOCATION:STAAR Theatre\, 105 N 1st St\, Pulaski\, TN\, 38478\, United States
CATEGORIES:Current Events,Ticket Sales
ATTACH;FMTTYPE=image/jpeg:https://staartheatre.org/wp-content/uploads/2024/11/Nemo-Circle-ombre-White-Logo.jpg
ORGANIZER;CN="STAAR Theatre":MAILTO:info@staartheatre.org
END:VEVENT
END:VCALENDAR