BEGIN:VCALENDAR
VERSION:2.0
PRODID:-//STAAR Theatre - ECPv6.15.20//NONSGML v1.0//EN
CALSCALE:GREGORIAN
METHOD:PUBLISH
X-ORIGINAL-URL:https://staartheatre.org
X-WR-CALDESC:Events for STAAR Theatre
REFRESH-INTERVAL;VALUE=DURATION:PT1H
X-Robots-Tag:noindex
X-PUBLISHED-TTL:PT1H
BEGIN:VTIMEZONE
TZID:America/Chicago
BEGIN:DAYLIGHT
TZOFFSETFROM:-0600
TZOFFSETTO:-0500
TZNAME:CDT
DTSTART:20240310T080000
END:DAYLIGHT
BEGIN:STANDARD
TZOFFSETFROM:-0500
TZOFFSETTO:-0600
TZNAME:CST
DTSTART:20241103T070000
END:STANDARD
BEGIN:DAYLIGHT
TZOFFSETFROM:-0600
TZOFFSETTO:-0500
TZNAME:CDT
DTSTART:20250309T080000
END:DAYLIGHT
BEGIN:STANDARD
TZOFFSETFROM:-0500
TZOFFSETTO:-0600
TZNAME:CST
DTSTART:20251102T070000
END:STANDARD
BEGIN:DAYLIGHT
TZOFFSETFROM:-0600
TZOFFSETTO:-0500
TZNAME:CDT
DTSTART:20260308T080000
END:DAYLIGHT
BEGIN:STANDARD
TZOFFSETFROM:-0500
TZOFFSETTO:-0600
TZNAME:CST
DTSTART:20261101T070000
END:STANDARD
END:VTIMEZONE
BEGIN:VEVENT
DTSTART;TZID=America/Chicago:20250801T190000
DTEND;TZID=America/Chicago:20250801T210000
DTSTAMP:20260423T123302
CREATED:20250629T145257Z
LAST-MODIFIED:20250629T145352Z
UID:3733-1754074800-1754082000@staartheatre.org
SUMMARY:Bye Bye Birdie @ STAAR Aug. 1
DESCRIPTION:tickets on sale now for\nBye Bye Birdie\nThe year is 1958\, and the much-adored rock-and-roll idol -- Conrad Birdie -- has been drafted into the US army. His songwriter and agent\, Albert\, and Albert’s secretary and some-time girlfirend\, Rosie\, hatch a plan for a farewell performance to take place on The Ed Sullivan Show\, which they hope will help sell Birdie’s new song “One Last Kiss\,” and ultimately save Almaelou records from going under. To cap off the performance\, Birdie will actually give ‘one last kiss’ to Kim MacAfee\, an avid member of the Conrad Birdie fan club from Sweet Apple\, Ohio. \nWhen Albert and Rosie head to Sweet Apple to prepare for Birdie’s arrival\, things start to unravel. Kim’s father is starstruck at the thought of being on The Ed Sullivan Show with his daughter\, and Kim’s new steady\, Hugo gets jealous at the thought of Kim kissing Conrad on national television. \n			\n			\n				\n				\n				\n				\n				\n				\n				\n				\n				\n				\n			\n				Buy Tickets Here\n			\n			\n				\n				\n				\n				\n				\n				\n				\n				\n				\n				Friday\, July 25 | 7 p.m. \nSaturday\, July 26 | 7 p.m.. \nSunday\, July 27 | 2 p.m. \nFriday\, August 1 | 7 p.m. \nSaturday\, August 2 | 7 p.m. \nSunday\, August 3 | 2 p.m.
URL:https://staartheatre.org/event/bye-bye-birdie-staar-aug-1/
LOCATION:STAAR Theatre\, 105 N 1st St\, Pulaski\, TN\, 38478\, United States
CATEGORIES:Current Events,Ticket Sales
ATTACH;FMTTYPE=image/jpeg:https://staartheatre.org/wp-content/uploads/2025/03/Birdie-Event-Show-Dates.jpg
ORGANIZER;CN="STAAR Theatre":MAILTO:info@staartheatre.org
END:VEVENT
BEGIN:VEVENT
DTSTART;TZID=America/Chicago:20250802T190000
DTEND;TZID=America/Chicago:20250802T210000
DTSTAMP:20260423T123302
CREATED:20250629T145534Z
LAST-MODIFIED:20250629T145538Z
UID:3737-1754161200-1754168400@staartheatre.org
SUMMARY:Bye Bye Birdie @ STAAR Aug. 2
DESCRIPTION:tickets on sale now for\nBye Bye Birdie\nThe year is 1958\, and the much-adored rock-and-roll idol -- Conrad Birdie -- has been drafted into the US army. His songwriter and agent\, Albert\, and Albert’s secretary and some-time girlfirend\, Rosie\, hatch a plan for a farewell performance to take place on The Ed Sullivan Show\, which they hope will help sell Birdie’s new song “One Last Kiss\,” and ultimately save Almaelou records from going under. To cap off the performance\, Birdie will actually give ‘one last kiss’ to Kim MacAfee\, an avid member of the Conrad Birdie fan club from Sweet Apple\, Ohio. \nWhen Albert and Rosie head to Sweet Apple to prepare for Birdie’s arrival\, things start to unravel. Kim’s father is starstruck at the thought of being on The Ed Sullivan Show with his daughter\, and Kim’s new steady\, Hugo gets jealous at the thought of Kim kissing Conrad on national television. \n			\n			\n				\n				\n				\n				\n				\n				\n				\n				\n				\n				\n			\n				Buy Tickets Here\n			\n			\n				\n				\n				\n				\n				\n				\n				\n				\n				\n				Friday\, July 25 | 7 p.m. \nSaturday\, July 26 | 7 p.m.. \nSunday\, July 27 | 2 p.m. \nFriday\, August 1 | 7 p.m. \nSaturday\, August 2 | 7 p.m. \nSunday\, August 3 | 2 p.m.
URL:https://staartheatre.org/event/bye-bye-birdie-staar-aug-2/
LOCATION:STAAR Theatre\, 105 N 1st St\, Pulaski\, TN\, 38478\, United States
CATEGORIES:Current Events,Ticket Sales
ATTACH;FMTTYPE=image/jpeg:https://staartheatre.org/wp-content/uploads/2025/03/Birdie-Event-Show-Dates.jpg
ORGANIZER;CN="STAAR Theatre":MAILTO:info@staartheatre.org
END:VEVENT
BEGIN:VEVENT
DTSTART;TZID=America/Chicago:20250803T140000
DTEND;TZID=America/Chicago:20250803T160000
DTSTAMP:20260423T123302
CREATED:20250629T145738Z
LAST-MODIFIED:20250629T145756Z
UID:3744-1754229600-1754236800@staartheatre.org
SUMMARY:Bye Bye Birdie @ STAAR Aug. 3
DESCRIPTION:tickets on sale now for\nBye Bye Birdie\nThe year is 1958\, and the much-adored rock-and-roll idol -- Conrad Birdie -- has been drafted into the US army. His songwriter and agent\, Albert\, and Albert’s secretary and some-time girlfirend\, Rosie\, hatch a plan for a farewell performance to take place on The Ed Sullivan Show\, which they hope will help sell Birdie’s new song “One Last Kiss\,” and ultimately save Almaelou records from going under. To cap off the performance\, Birdie will actually give ‘one last kiss’ to Kim MacAfee\, an avid member of the Conrad Birdie fan club from Sweet Apple\, Ohio. \nWhen Albert and Rosie head to Sweet Apple to prepare for Birdie’s arrival\, things start to unravel. Kim’s father is starstruck at the thought of being on The Ed Sullivan Show with his daughter\, and Kim’s new steady\, Hugo gets jealous at the thought of Kim kissing Conrad on national television. \n			\n			\n				\n				\n				\n				\n				\n				\n				\n				\n				\n				\n			\n				Buy Tickets Here\n			\n			\n				\n				\n				\n				\n				\n				\n				\n				\n				\n				Friday\, July 25 | 7 p.m. \nSaturday\, July 26 | 7 p.m.. \nSunday\, July 27 | 2 p.m. \nFriday\, August 1 | 7 p.m. \nSaturday\, August 2 | 7 p.m. \nSunday\, August 3 | 2 p.m.
URL:https://staartheatre.org/event/bye-bye-birdie-staar-aug-3/
LOCATION:STAAR Theatre\, 105 N 1st St\, Pulaski\, TN\, 38478\, United States
CATEGORIES:Current Events,Ticket Sales
ATTACH;FMTTYPE=image/jpeg:https://staartheatre.org/wp-content/uploads/2025/03/Birdie-Event-Show-Dates.jpg
ORGANIZER;CN="STAAR Theatre":MAILTO:info@staartheatre.org
END:VEVENT
END:VCALENDAR