BEGIN:VCALENDAR
VERSION:2.0
PRODID:-//STAAR Theatre - ECPv6.15.20//NONSGML v1.0//EN
CALSCALE:GREGORIAN
METHOD:PUBLISH
X-ORIGINAL-URL:https://staartheatre.org
X-WR-CALDESC:Events for STAAR Theatre
REFRESH-INTERVAL;VALUE=DURATION:PT1H
X-Robots-Tag:noindex
X-PUBLISHED-TTL:PT1H
BEGIN:VTIMEZONE
TZID:America/Chicago
BEGIN:DAYLIGHT
TZOFFSETFROM:-0600
TZOFFSETTO:-0500
TZNAME:CDT
DTSTART:20220313T080000
END:DAYLIGHT
BEGIN:STANDARD
TZOFFSETFROM:-0500
TZOFFSETTO:-0600
TZNAME:CST
DTSTART:20221106T070000
END:STANDARD
BEGIN:DAYLIGHT
TZOFFSETFROM:-0600
TZOFFSETTO:-0500
TZNAME:CDT
DTSTART:20230312T080000
END:DAYLIGHT
BEGIN:STANDARD
TZOFFSETFROM:-0500
TZOFFSETTO:-0600
TZNAME:CST
DTSTART:20231105T070000
END:STANDARD
BEGIN:DAYLIGHT
TZOFFSETFROM:-0600
TZOFFSETTO:-0500
TZNAME:CDT
DTSTART:20240310T080000
END:DAYLIGHT
BEGIN:STANDARD
TZOFFSETFROM:-0500
TZOFFSETTO:-0600
TZNAME:CST
DTSTART:20241103T070000
END:STANDARD
END:VTIMEZONE
BEGIN:VEVENT
DTSTART;TZID=America/Chicago:20230923T100000
DTEND;TZID=America/Chicago:20230923T120000
DTSTAMP:20260424T204806
CREATED:20230807T042123Z
LAST-MODIFIED:20230809T220504Z
UID:1612-1695463200-1695470400@staartheatre.org
SUMMARY:Saturday 10a: WATERCOLOR FALL PUMPKIN [Adult] (Susan Jones)
DESCRIPTION:Susan Jones will be teaching several watercolor paint-a-long classes this fall. The first of these classes will be a Fall Pumpkin! \nClass info:\n10 a.m. – 12 p.m. on Saturdays\nSingle class\nAdults \nClass Minimum: 8 participants \nREGISTER ONLINE CLICK HERE!\nSample “White Pumpkin” Watercolor Painting \nJoin artist Susan Elizabeth Jones and enjoy a fun\, easy to follow\, step-by-step\, watercolor class and begin learning the basics of painting on your own in watercolor\, make new and creative friends\, and leave with a 5 x 7 original watercolor painting suitable for framing.  \nSusan makes it easy by pre-stretching and preparing the watercolor paper before you come to class\, but she will explain how to do this process on your own. No drawing skills are needed. Susan will also pre-sketch the basic shapes of the painting\, so the class has more time dedicated to painting with watercolor and teach you how to easily transfer basic shapes on your own using two methods. Individual attention is planned through the entire process.  It is perfect for both beginners and seasoned painters alike. \nHeard watercolor can be tricky? It’s true\, but after decades as a classically trained painter\, Susan has learned many “fixes” to make painting less scary\, less stressful\, and more enjoyable\, and she will teach them all to you so you may start building your watercolor painting skills and be a better watercolor painting artist. Join us\, won’t you? \n 
URL:https://staartheatre.org/event/fall-sat-watercolor-pumpkin-morning/
LOCATION:STAAR Theatre\, 105 N 1st St\, Pulaski\, TN\, 38478\, United States
CATEGORIES:Visual Arts Classes
ATTACH;FMTTYPE=image/png:https://staartheatre.org/wp-content/uploads/2023/08/Watercolor.png
END:VEVENT
BEGIN:VEVENT
DTSTART;TZID=America/Chicago:20230923T130000
DTEND;TZID=America/Chicago:20230923T150000
DTSTAMP:20260424T204806
CREATED:20230807T042409Z
LAST-MODIFIED:20230809T220445Z
UID:1615-1695474000-1695481200@staartheatre.org
SUMMARY:Saturday 1pm: WATERCOLOR FALL PUMPKIN [Adult] (Susan Jones)
DESCRIPTION:Susan Jones will be teaching several watercolor paint-a-long classes this fall. The first of these classes will be a Fall Pumpkin! \nClass info:\n1 p.m. – 3 p.m. on Saturdays\nSingle class\nAdults \nClass Minimum: 8 participants \nREGISTER ONLINE CLICK HERE!\nSample “White Pumpkin” Watercolor Painting \nJoin artist Susan Elizabeth Jones and enjoy a fun\, easy to follow\, step-by-step\, watercolor class and begin learning the basics of painting on your own in watercolor\, make new and creative friends\, and leave with a 5 x 7 original watercolor painting suitable for framing.  \nSusan makes it easy by pre-stretching and preparing the watercolor paper before you come to class\, but she will explain how to do this process on your own. No drawing skills are needed. Susan will also pre-sketch the basic shapes of the painting\, so the class has more time dedicated to painting with watercolor and teach you how to easily transfer basic shapes on your own using two methods. Individual attention is planned through the entire process.  It is perfect for both beginners and seasoned painters alike. \nHeard watercolor can be tricky? It’s true\, but after decades as a classically trained painter\, Susan has learned many “fixes” to make painting less scary\, less stressful\, and more enjoyable\, and she will teach them all to you so you may start building your watercolor painting skills and be a better watercolor painting artist. Join us\, won’t you? \n 
URL:https://staartheatre.org/event/fall-sat-watercolor-pumpkin-pm/
LOCATION:STAAR Theatre\, 105 N 1st St\, Pulaski\, TN\, 38478\, United States
CATEGORIES:Visual Arts Classes
ATTACH;FMTTYPE=image/png:https://staartheatre.org/wp-content/uploads/2023/08/Watercolor.png
END:VEVENT
END:VCALENDAR