BEGIN:VCALENDAR
VERSION:2.0
PRODID:-//STAAR Theatre - ECPv6.15.20//NONSGML v1.0//EN
CALSCALE:GREGORIAN
METHOD:PUBLISH
X-ORIGINAL-URL:https://staartheatre.org
X-WR-CALDESC:Events for STAAR Theatre
REFRESH-INTERVAL;VALUE=DURATION:PT1H
X-Robots-Tag:noindex
X-PUBLISHED-TTL:PT1H
BEGIN:VTIMEZONE
TZID:America/Chicago
BEGIN:DAYLIGHT
TZOFFSETFROM:-0600
TZOFFSETTO:-0500
TZNAME:CDT
DTSTART:20250309T080000
END:DAYLIGHT
BEGIN:STANDARD
TZOFFSETFROM:-0500
TZOFFSETTO:-0600
TZNAME:CST
DTSTART:20251102T070000
END:STANDARD
BEGIN:DAYLIGHT
TZOFFSETFROM:-0600
TZOFFSETTO:-0500
TZNAME:CDT
DTSTART:20260308T080000
END:DAYLIGHT
BEGIN:STANDARD
TZOFFSETFROM:-0500
TZOFFSETTO:-0600
TZNAME:CST
DTSTART:20261101T070000
END:STANDARD
BEGIN:DAYLIGHT
TZOFFSETFROM:-0600
TZOFFSETTO:-0500
TZNAME:CDT
DTSTART:20270314T080000
END:DAYLIGHT
BEGIN:STANDARD
TZOFFSETFROM:-0500
TZOFFSETTO:-0600
TZNAME:CST
DTSTART:20271107T070000
END:STANDARD
END:VTIMEZONE
BEGIN:VEVENT
DTSTART;TZID=America/Chicago:20260501T190000
DTEND;TZID=America/Chicago:20260501T210000
DTSTAMP:20260422T112718
CREATED:20260327T021150Z
LAST-MODIFIED:20260327T021157Z
UID:4694-1777662000-1777669200@staartheatre.org
SUMMARY:"1776"
DESCRIPTION:Buy Tickets\n			\n			\n				\n				\n				\n				\n				\n				\n				\n				\n				\n				Tickets On Sale Now for “1776”\nIt’s the summer of 1776\, and the nation is ready to declare independence… if only our founding fathers can agree to do it! 1776 follows John Adams of Massachusetts\, Benjamin Franklin of Pennsylvania and Thomas Jefferson of Virginia as they attempt to convince the members of the Second Continental Congress to vote for independence from the shackles of the British monarchy by signing the Declaration of Independence. 1776 is a funny\, insightful and compelling drama with a striking score and legendary book. \n 
URL:https://staartheatre.org/event/1776-may-1-2026/
LOCATION:STAAR Theatre\, 105 N 1st St\, Pulaski\, TN\, 38478\, United States
ORGANIZER;CN="STAAR Theatre":MAILTO:info@staartheatre.org
END:VEVENT
BEGIN:VEVENT
DTSTART;TZID=America/Chicago:20260502T190000
DTEND;TZID=America/Chicago:20260502T210000
DTSTAMP:20260422T112718
CREATED:20260327T021349Z
LAST-MODIFIED:20260327T021501Z
UID:4698-1777748400-1777755600@staartheatre.org
SUMMARY:"1776"
DESCRIPTION:Buy Tickets\n			\n			\n				\n				\n				\n				\n				\n				\n				\n				\n				\n				Tickets On Sale Now for “1776”\nIt’s the summer of 1776\, and the nation is ready to declare independence… if only our founding fathers can agree to do it! 1776 follows John Adams of Massachusetts\, Benjamin Franklin of Pennsylvania and Thomas Jefferson of Virginia as they attempt to convince the members of the Second Continental Congress to vote for independence from the shackles of the British monarchy by signing the Declaration of Independence. 1776 is a funny\, insightful and compelling drama with a striking score and legendary book.
URL:https://staartheatre.org/event/1776-may-2-2026/
LOCATION:STAAR Theatre\, 105 N 1st St\, Pulaski\, TN\, 38478\, United States
ATTACH;FMTTYPE=image/jpeg:https://staartheatre.org/wp-content/uploads/2026/03/1776-Web-Event.jpg
ORGANIZER;CN="STAAR Theatre":MAILTO:info@staartheatre.org
END:VEVENT
BEGIN:VEVENT
DTSTART;TZID=America/Chicago:20260503T140000
DTEND;TZID=America/Chicago:20260503T160000
DTSTAMP:20260422T112718
CREATED:20260327T021629Z
LAST-MODIFIED:20260327T022654Z
UID:4700-1777816800-1777824000@staartheatre.org
SUMMARY:"1776"
DESCRIPTION:Buy Tickets\n			\n			\n				\n				\n				\n				\n				\n				\n				\n				\n				\n				Tickets On Sale Now for “1776”\nIt’s the summer of 1776\, and the nation is ready to declare independence… if only our founding fathers can agree to do it! 1776 follows John Adams of Massachusetts\, Benjamin Franklin of Pennsylvania and Thomas Jefferson of Virginia as they attempt to convince the members of the Second Continental Congress to vote for independence from the shackles of the British monarchy by signing the Declaration of Independence. 1776 is a funny\, insightful and compelling drama with a striking score and legendary book.
URL:https://staartheatre.org/event/1776-may-3-2026/
LOCATION:STAAR Theatre\, 105 N 1st St\, Pulaski\, TN\, 38478\, United States
ATTACH;FMTTYPE=image/jpeg:https://staartheatre.org/wp-content/uploads/2026/03/1776-Web-Event.jpg
ORGANIZER;CN="STAAR Theatre":MAILTO:info@staartheatre.org
END:VEVENT
BEGIN:VEVENT
DTSTART;TZID=America/Chicago:20260508T190000
DTEND;TZID=America/Chicago:20260508T210000
DTSTAMP:20260422T112718
CREATED:20260327T022028Z
LAST-MODIFIED:20260327T022149Z
UID:4703-1778266800-1778274000@staartheatre.org
SUMMARY:"1776"
DESCRIPTION:Buy Tickets\n			\n			\n				\n				\n				\n				\n				\n				\n				\n				\n				\n				Tickets On Sale Now for “1776”\nIt’s the summer of 1776\, and the nation is ready to declare independence… if only our founding fathers can agree to do it! 1776 follows John Adams of Massachusetts\, Benjamin Franklin of Pennsylvania and Thomas Jefferson of Virginia as they attempt to convince the members of the Second Continental Congress to vote for independence from the shackles of the British monarchy by signing the Declaration of Independence. 1776 is a funny\, insightful and compelling drama with a striking score and legendary book.
URL:https://staartheatre.org/event/1776-may-8-2026/
LOCATION:STAAR Theatre\, 105 N 1st St\, Pulaski\, TN\, 38478\, United States
ATTACH;FMTTYPE=image/jpeg:https://staartheatre.org/wp-content/uploads/2026/03/1776-Web-Event.jpg
ORGANIZER;CN="STAAR Theatre":MAILTO:info@staartheatre.org
END:VEVENT
BEGIN:VEVENT
DTSTART;TZID=America/Chicago:20260509T190000
DTEND;TZID=America/Chicago:20260509T210000
DTSTAMP:20260422T112718
CREATED:20260327T022309Z
LAST-MODIFIED:20260327T022407Z
UID:4705-1778353200-1778360400@staartheatre.org
SUMMARY:"1776"
DESCRIPTION:Buy Tickets\n			\n			\n				\n				\n				\n				\n				\n				\n				\n				\n				\n				Tickets On Sale Now for “1776”\nIt’s the summer of 1776\, and the nation is ready to declare independence… if only our founding fathers can agree to do it! 1776 follows John Adams of Massachusetts\, Benjamin Franklin of Pennsylvania and Thomas Jefferson of Virginia as they attempt to convince the members of the Second Continental Congress to vote for independence from the shackles of the British monarchy by signing the Declaration of Independence. 1776 is a funny\, insightful and compelling drama with a striking score and legendary book.
URL:https://staartheatre.org/event/1776-may-9-2026/
LOCATION:STAAR Theatre\, 105 N 1st St\, Pulaski\, TN\, 38478\, United States
ATTACH;FMTTYPE=image/jpeg:https://staartheatre.org/wp-content/uploads/2026/03/1776-Web-Event.jpg
ORGANIZER;CN="STAAR Theatre":MAILTO:info@staartheatre.org
END:VEVENT
BEGIN:VEVENT
DTSTART;TZID=America/Chicago:20260510T140000
DTEND;TZID=America/Chicago:20260510T160000
DTSTAMP:20260422T112718
CREATED:20260327T022447Z
LAST-MODIFIED:20260327T022516Z
UID:4707-1778421600-1778428800@staartheatre.org
SUMMARY:"1776" Copy
DESCRIPTION:Buy Tickets\n			\n			\n				\n				\n				\n				\n				\n				\n				\n				\n				\n				Tickets On Sale Now for “1776”\nIt’s the summer of 1776\, and the nation is ready to declare independence… if only our founding fathers can agree to do it! 1776 follows John Adams of Massachusetts\, Benjamin Franklin of Pennsylvania and Thomas Jefferson of Virginia as they attempt to convince the members of the Second Continental Congress to vote for independence from the shackles of the British monarchy by signing the Declaration of Independence. 1776 is a funny\, insightful and compelling drama with a striking score and legendary book.
URL:https://staartheatre.org/event/1776-may-10-2026/
LOCATION:STAAR Theatre\, 105 N 1st St\, Pulaski\, TN\, 38478\, United States
ATTACH;FMTTYPE=image/jpeg:https://staartheatre.org/wp-content/uploads/2026/03/1776-Web-Event.jpg
ORGANIZER;CN="STAAR Theatre":MAILTO:info@staartheatre.org
END:VEVENT
END:VCALENDAR