BEGIN:VCALENDAR
VERSION:2.0
PRODID:-//STAAR Theatre - ECPv6.15.20//NONSGML v1.0//EN
CALSCALE:GREGORIAN
METHOD:PUBLISH
X-ORIGINAL-URL:https://staartheatre.org
X-WR-CALDESC:Events for STAAR Theatre
REFRESH-INTERVAL;VALUE=DURATION:PT1H
X-Robots-Tag:noindex
X-PUBLISHED-TTL:PT1H
BEGIN:VTIMEZONE
TZID:America/Chicago
BEGIN:DAYLIGHT
TZOFFSETFROM:-0600
TZOFFSETTO:-0500
TZNAME:CDT
DTSTART:20240310T080000
END:DAYLIGHT
BEGIN:STANDARD
TZOFFSETFROM:-0500
TZOFFSETTO:-0600
TZNAME:CST
DTSTART:20241103T070000
END:STANDARD
BEGIN:DAYLIGHT
TZOFFSETFROM:-0600
TZOFFSETTO:-0500
TZNAME:CDT
DTSTART:20250309T080000
END:DAYLIGHT
BEGIN:STANDARD
TZOFFSETFROM:-0500
TZOFFSETTO:-0600
TZNAME:CST
DTSTART:20251102T070000
END:STANDARD
BEGIN:DAYLIGHT
TZOFFSETFROM:-0600
TZOFFSETTO:-0500
TZNAME:CDT
DTSTART:20260308T080000
END:DAYLIGHT
BEGIN:STANDARD
TZOFFSETFROM:-0500
TZOFFSETTO:-0600
TZNAME:CST
DTSTART:20261101T070000
END:STANDARD
END:VTIMEZONE
BEGIN:VEVENT
DTSTART;TZID=America/Chicago:20250329T190000
DTEND;TZID=America/Chicago:20250330T000000
DTSTAMP:20260424T175117
CREATED:20250223T122433Z
LAST-MODIFIED:20250223T122433Z
UID:3382-1743274800-1743292800@staartheatre.org
SUMMARY:Spirits of Antoinette Hall Ghost Hunting Event
DESCRIPTION:Medics 4 Paranormal & PPF Investigations are hosting a night of ghost hunting at the oldest opera house in the south beginning on the evening of Saturday\, Mar 29\, 2025\, at 7 p.m. and ending at midnight Sunday\, Mar 30. Built in 1868 in Pulaski\, Tennessee\, Antoinette Hall has hosted a diverse array of performers and owners. With the final curtain call in the 1930s\, the audience long gone\, her doors remained closed for years\, but the spirits continued to perform. This unique location is also located on the Trail of Tears and the town its in has a past of it owns.  From footsteps and voices\, to portals and elementals\, Antoinette Hall is one of the most haunted locations in the south. It was also featured on the Conjuring Kesha. To read more about the hauntings at Antoinette Hall\, click here. This will be a limited ticket event and all tickets are non-refundable.
URL:https://staartheatre.org/event/spirits-of-antoinette-hall-ghost-hunting-event/
LOCATION:Antoinette Hall\, 105 North First Street\, Pulaski\, TN\, 38478\, United States
ATTACH;FMTTYPE=image/jpeg:https://staartheatre.org/wp-content/uploads/2025/02/IMG_3911-copy-640x675-1.jpg
END:VEVENT
END:VCALENDAR